BEGIN:VCALENDAR
VERSION:2.0
PRODID:-//ChamberMaster//Event Calendar 2.0//EN
METHOD:PUBLISH
X-PUBLISHED-TTL:P3D
REFRESH-INTERVAL:P3D
CALSCALE:GREGORIAN
BEGIN:VEVENT
DTSTART:20250208T180000Z
DTEND:20250208T210000Z
X-MICROSOFT-CDO-ALLDAYEVENT:FALSE
SUMMARY:Noah’s Valentine | Life on the Webster Farm: Work Days
DESCRIPTION:Visit the Noah Webster House & West Hartford Historical Society on Saturday\, February 8\, 2025 from 1:00pm - 4:00pm to enjoy live demonstrations from our experienced team of museum educators. Each demonstration will focus on a unique aspect of early American work and play.\n\nFebruary 8\, 2025   Noah's Valentine\n\nDuring the 18th century\, Valentine's Day became very popular\, and it has only grown in popularity since. Come to the Noah Webster House to learn about Noah's love life\, read his love letters and then write your own letter to a loved one with authentic quill and ink\, just like Noah himself!\n\nThis program is included in museum admission. Enjoy FREE general admission for children under 12 for this event!\n\nFor more information\, please email education@noahwebsterhouse.org or visit www.noahwebsterhouse.org/work-days.\n\nThank you to our 2025 Sponsor\, the Rotary Club of West Hartford!
X-ALT-DESC;FMTTYPE=text/html:<p><span style="background-color:transparent\; color:rgb(68\, 68\, 68)\; font-family:arial\,sans-serif\; font-size:12pt">Visit the Noah Webster House &amp\; West Hartford Historical Society on </span><strong>Saturday\, </strong><strong>February 8\, 2025</strong><span style="background-color:transparent\; color:rgb(68\, 68\, 68)\; font-family:arial\,sans-serif\; font-size:12pt"> from 1:00pm - 4:00pm to enjoy live demonstrations from our experienced team of museum educators. Each demonstration will focus on a unique aspect of early American work and play.</span></p>\n\n<p><strong>February 8\, 2025 &ndash\; Noah&rsquo\;s Valentine</strong></p>\n\n<p><strong>During the 18th century\, Valentine&rsquo\;s Day became very popular\, and it has only grown in popularity since. Come to the Noah Webster House to learn about Noah&rsquo\;s love life\, read his love letters and then write your own letter to a loved one with authentic quill and ink\, just like Noah himself!</strong></p>\n\n<p><span style="background-color:transparent\; color:rgb(68\, 68\, 68)\; font-family:arial\,sans-serif\; font-size:12pt">This program is included in museum admission. Enjoy </span><strong>FREE</strong><span style="background-color:transparent\; color:rgb(68\, 68\, 68)\; font-family:arial\,sans-serif\; font-size:12pt"> general admission for children under 12 for this event!</span></p>\n\n<p><span style="background-color:transparent\; color:rgb(68\, 68\, 68)\; font-family:arial\,sans-serif\; font-size:12pt">For more information\, please email education@noahwebsterhouse.org or visit</span><a href="https://noahwebsterhouse.org/work-days/" style="text-decoration-line: none\;"><span style="background-color:transparent\; color:rgb(68\, 68\, 68)\; font-family:arial\,sans-serif\; font-size:12pt"> </span><span style="background-color:transparent\; color:rgb(17\, 85\, 204)\; font-family:arial\,sans-serif\; font-size:12pt">www.noahwebsterhouse.org/work-days</span></a><span style="background-color:transparent\; color:rgb(68\, 68\, 68)\; font-family:arial\,sans-serif\; font-size:12pt">.</span></p>\n\n<p><span style="background-color:transparent\; color:rgb(68\, 68\, 68)\; font-family:arial\,sans-serif\; font-size:12pt">Thank you to our 2025 Sponsor\, the Rotary Club of West Hartford!</span></p>\n\n<div>&nbsp\;</div>\n
LOCATION:Noah Webster House & West Hartford Historical Society 227 South Main Street\, West Hartford\, CT\, 06107
UID:e.3150.15832
SEQUENCE:3
DTSTAMP:20260424T025058Z
URL:https://business.whchamber.com/events/details/noah-s-valentine-life-on-the-webster-farm-work-days-15832
END:VEVENT

END:VCALENDAR
