BEGIN:VCALENDAR
VERSION:2.0
PRODID:-//ChamberMaster//Event Calendar 2.0//EN
METHOD:PUBLISH
X-PUBLISHED-TTL:P3D
REFRESH-INTERVAL:P3D
CALSCALE:GREGORIAN
BEGIN:VEVENT
DTSTART;VALUE=DATE:20260314
DTEND;VALUE=DATE:20260330
TRANSP:TRANSPARENT
X-MICROSOFT-CDO-ALLDAYEVENT:TRUE
SUMMARY:New England Ballet Theatre presents: Ballet Unbound
DESCRIPTION:?Presenting new ballets by up-and-coming female choreographers\, including this year's recipient of our Young Choreographer Award\, New England Ballet Theatre's Ballet Unbound will captivate you with a wide range of dance styles and creative elements. \n\nPerformances will be held on Saturday\, March 14\, at 7:30pm at the University of Saint Joseph Hoffman Auditorium and Sunday\, March 29\, at 2:30pm at the Ailey Citigroup Theatre in New York City.
X-ALT-DESC;FMTTYPE=text/html:<p><span style="font-size:12px"><span style="font-family:arial\,helvetica\,sans-serif"><strong>?</strong><span style="color:rgb(0\, 0\, 0)">Presenting new ballets by up-and-coming female choreographers\, including this year&#39\;s recipient of our Young Choreographer Award\, New England Ballet Theatre&#39\;s&nbsp\;<em>Ballet Unbound</em>&nbsp\;will captivate you with a wide range of dance styles and creative elements.&nbsp\;<br />\nPerformances will be held on Saturday\, March 14\, at 7:30pm at the University of Saint Joseph Hoffman Auditorium and Sunday\, March 29\, at 2:30pm at the Ailey Citigroup Theatre in New York City.</span></span></span></p>\n
LOCATION:March 14\, 7:30pm University of Saint Joseph Hoffman Auditorium 1678 Asylum Ave\, West Hartford\, CT 06117 March 29\, 2:30pm Ailey Citigroup Theater 405 W 55th St\, New York\, NY 10019
UID:e.3150.17080
SEQUENCE:3
DTSTAMP:20260425T155334Z
URL:https://business.whchamber.com/events/details/new-england-ballet-theatre-presents-ballet-unbound-17080
END:VEVENT

END:VCALENDAR
