BEGIN:VCALENDAR
VERSION:2.0
PRODID:-//ChamberMaster//Event Calendar 2.0//EN
METHOD:PUBLISH
X-PUBLISHED-TTL:P3D
REFRESH-INTERVAL:P3D
CALSCALE:GREGORIAN
BEGIN:VEVENT
DTSTART:20220208T200000Z
DTEND:20220208T213000Z
X-MICROSOFT-CDO-ALLDAYEVENT:FALSE
SUMMARY:CLA - Navigating the Latest R&D Tax Credit Developments
DESCRIPTION:The past year has been one of the most eventful in the R&D tax credit's history. From significant court cases to important IRS procedural guidance\, the developments in 2021 will have a significant impact on how taxpayers claim and defend their R&D credits. Join us for this complimentary webinar where members of CLA's R&D credit team share the latest developments and how they may affect your organization.\n\nAt the end of this session\, you will be able to:\n\n\n	Describe the impacts of recent R&D court cases\n	Describe the federal and state legislative updates\n	Describe the IRS audit and enforcement updates\n	Outline the new procedures for R&D refund claims\n	Explain the importance of documenting your process of experimentation\n\n\nWho should attend\n\nThis session is designed for business owners and financial professionals who want to gain an understanding of recent R&D tax credit developments and how they may impact future credit claims.\n\nPlease register by February 7\, 2022.\n\n\n\nCPE\n\n\nRecommended CPE: 1.6 credits\, Taxes\n\nPrerequisites: None\n\nProgram level: Overview\n\nAdvance preparation: None\n\nDelivery method: Group Internet-Based
X-ALT-DESC;FMTTYPE=text/html:<p>The past year has been one of the most eventful in the R&amp\;D tax credit&rsquo\;s history. From significant court cases to important IRS procedural guidance\, the developments in 2021 will have a significant impact on how taxpayers claim and defend their R&amp\;D credits. Join us for this <strong>complimentary</strong> webinar where members of CLA&rsquo\;s R&amp\;D credit team share the latest developments and how they may affect your organization.</p>\n\n<p>At the end of this session\, you will be able to:</p>\n\n<ul style="margin-left:0px\; margin-right:0px">\n	<li>Describe the impacts of recent R&amp\;D court cases</li>\n	<li>Describe the federal and state legislative updates</li>\n	<li>Describe the IRS audit and enforcement updates</li>\n	<li>Outline the new procedures for R&amp\;D refund claims</li>\n	<li>Explain the importance of documenting your process of experimentation</li>\n</ul>\n\n<h2>Who should attend</h2>\n\n<p>This session is designed for business owners and financial professionals who want to gain an understanding of recent R&amp\;D tax credit developments and how they may impact future credit claims.</p>\n\n<p>Please register by February 7\, 2022.<br />\n<br />\n<strong>CPE</strong></p>\n\n<div>\n<p>Recommended CPE: 1.6 credits\, Taxes<br />\nPrerequisites: None<br />\nProgram level: Overview<br />\nAdvance preparation: None<br />\nDelivery method: Group Internet-Based</p>\n</div>\n
LOCATION:Virtual - Group Internet Based Webinar This is a CLA Hosted Webinar For more information and to register: Navigating the Latest R&D Tax Credit Developments : 2022 : Events : CLA (CliftonLarsonAllen) (claconnect.com) You will receive your webinar link in the confirmation email after registering
UID:e.3150.9312
SEQUENCE:3
DTSTAMP:20260425T203431Z
URL:https://business.whchamber.com/events/details/navigating-the-latest-r-d-tax-credit-developments-9312
END:VEVENT

END:VCALENDAR
