BEGIN:VCALENDAR
VERSION:2.0
PRODID:-//ChamberMaster//Event Calendar 2.0//EN
METHOD:PUBLISH
X-PUBLISHED-TTL:P3D
REFRESH-INTERVAL:P3D
CALSCALE:GREGORIAN
BEGIN:VEVENT
DTSTART:20240803T133000Z
DTEND:20240803T140000Z
X-MICROSOFT-CDO-ALLDAYEVENT:FALSE
SUMMARY:Copper Beech Institute-Monthly Meditation for Black\, Indigenous & People of Color (BIPOC)
DESCRIPTION:We're inviting you as our beloved Black\, Indigenous\, and people of color (BIPOC) community to join our intentional affinity meditation group. This group is a healing space to comfortably gather in a part guided and part silent meditation practice. It is a place of respite and recharge to help us inspire\, balance\, and gather peacefulness. We want to promote courage of expression in light of our experiences\, and to say we hear you. Whether you want to sit quietly or share\, feel supported and at ease in this safely created space.\n\nAll self-identified BIPOC are welcome.
X-ALT-DESC;FMTTYPE=text/html:<p>We&rsquo\;re inviting you as our beloved Black\, Indigenous\, and people of color (BIPOC) community to join our intentional affinity meditation group. This group is a healing space to comfortably gather in a part guided and part silent meditation practice. It is a place of respite and recharge to help us inspire\, balance\, and gather peacefulness. We want to promote courage of expression in light of our experiences\, and to say we hear you. Whether you want to sit quietly or share\, feel supported and at ease in this safely created space.</p>\n\n<p>All self-identified BIPOC are welcome.</p>\n
LOCATION:
UID:e.3150.15077
SEQUENCE:3
DTSTAMP:20260424T152602Z
URL:https://business.whchamber.com/events/details/monthly-meditation-for-black-indigenous-people-of-color-bipoc-15077
END:VEVENT

END:VCALENDAR
