BEGIN:VCALENDAR
VERSION:2.0
PRODID:-//ChamberMaster//Event Calendar 2.0//EN
METHOD:PUBLISH
X-PUBLISHED-TTL:P3D
REFRESH-INTERVAL:P3D
CALSCALE:GREGORIAN
BEGIN:VEVENT
DTSTART:20240425T220000Z
DTEND:20240426T000000Z
X-MICROSOFT-CDO-ALLDAYEVENT:FALSE
SUMMARY:Mixology 101: The Art of Improv
DESCRIPTION:Unleash Your Inner Mixologist at our Swanky Adult Mixology Class!\n\nJoin us for an unforgettable evening of conversations about cocktails & creativity\, hosted by Distinctive Ideas in partnership with renowned Mixologist Katie Lloyd and sponsored by Opici Family Distributing.\n\n?? Date: Thursday - April 25th\n\n?? Time: 6 pm - 8 pm\n\n?? Location: Auerfarm - Bloomfield\, CT\n\nGet ready to elevate your cocktail game as Mixologist Katie Lloyd guides you through the art of mixology\, showcasing 3 staple cocktail and variations on those classics. Whether you're a seasoned bartender or a complete novice\, this class is designed to inspire and delight your taste buds.\n\nHere's what you can expect:\n\n?? Learn essential mixology techniques and secrets from the pros.\n\n?? Watch as mixologist Katie Lloyd walks you through craft cocktail building to wow the guests at your next function.\n\n?? ?? Gain insights into pairing suggestions with Chef Kristiann\, who will tantalize your palate with delectable bites.\n\n?? Discover improvisation techniques to craft unique and personalized cocktails at home.\n\nThis isn't just a class it's a swanky affair where you'll mingle with fellow cocktail enthusiasts\, savor exquisite drinks\, and indulge in gourmet delights.\n\nDon't miss out on this exclusive opportunity to sit front row as learn your way to mixology mastery! Reserve your spot now and get ready to elevate your cocktail game to new heights.\n\nLimited spots available\, so secure your ticket today!\n\n \n\nCheers to unforgettable experiences! ??
X-ALT-DESC;FMTTYPE=text/html:<p>&nbsp\;Unleash Your Inner Mixologist at our Swanky Adult Mixology Class!</p>\n\n<p>Join us for an unforgettable evening of conversations about cocktails &amp\; creativity\, hosted by Distinctive Ideas in partnership with renowned Mixologist Katie Lloyd and sponsored by Opici Family Distributing.</p>\n\n<p>?? Date: Thursday - April 25th<br />\n?? Time: 6 pm - 8 pm<br />\n?? Location: Auerfarm - Bloomfield\, CT</p>\n\n<p>Get ready to elevate your cocktail game as Mixologist Katie Lloyd guides you through the art of mixology\, showcasing 3 staple cocktail and variations on those classics. Whether you&#39\;re a seasoned bartender or a complete novice\, this class is designed to inspire and delight your taste buds.</p>\n\n<p>Here&#39\;s what you can expect:<br />\n?? Learn essential mixology techniques and secrets from the pros.<br />\n?? Watch as mixologist Katie Lloyd walks you through craft cocktail building to wow the guests at your next function.<br />\n??&zwj\;?? Gain insights into pairing suggestions with Chef Kristiann\, who will tantalize your palate with delectable bites.<br />\n?? Discover improvisation techniques to craft unique and personalized cocktails at home.</p>\n\n<p>This isn&#39\;t just a class&mdash\;it&#39\;s a swanky affair where you&#39\;ll mingle with fellow cocktail enthusiasts\, savor exquisite drinks\, and indulge in gourmet delights.</p>\n\n<p>Don&#39\;t miss out on this exclusive opportunity to sit front row as learn your way to mixology mastery! Reserve your spot now and get ready to elevate your cocktail game to new heights.</p>\n\n<p>Limited spots available\, so secure your ticket today!</p>\n\n<p>&nbsp\;</p>\n\n<p>Cheers to unforgettable experiences! ??</p>\n
LOCATION:Auerfarm 158 Auer Farm Rd Bloomfield\, CT 06002
UID:e.3150.12979
SEQUENCE:3
DTSTAMP:20260424T222917Z
URL:https://business.whchamber.com/events/details/mixology-101-the-art-of-improv-12979
END:VEVENT

END:VCALENDAR
