BEGIN:VCALENDAR
VERSION:2.0
PRODID:-//ChamberMaster//Event Calendar 2.0//EN
METHOD:PUBLISH
X-PUBLISHED-TTL:P3D
REFRESH-INTERVAL:P3D
CALSCALE:GREGORIAN
BEGIN:VEVENT
DTSTART:20250426T140000Z
DTEND:20250426T153000Z
X-MICROSOFT-CDO-ALLDAYEVENT:FALSE
SUMMARY:Mill Brook Park Hike
DESCRIPTION:This guided hike on winding trails through Mill Brook Open Space (formerly Traditions Golf Course) will be led by naturalist\, Brad Robinson. This hidden gem in the heart of Windsor has sprawling forests\, lush lawns\, colorful meadows and winding trails. \n\nCo-sponsored by Traprock Ridge Land Conservancy and the Windsor Conservation Committee.
X-ALT-DESC;FMTTYPE=text/html:<p>This guided hike on winding trails through Mill Brook Open Space (formerly Traditions Golf Course) will be led by naturalist\, Brad Robinson. This hidden gem in the heart of Windsor has sprawling forests\, lush lawns\, colorful meadows and winding trails.&nbsp\;</p>\n\n<p>Co-sponsored by Traprock Ridge Land Conservancy and the Windsor Conservation Committee.</p>\n
LOCATION:Mill Brook Park\, Windsor. Park at 147 Pigeon Hill Road.
UID:e.3150.15909
SEQUENCE:3
DTSTAMP:20260424T065847Z
URL:https://business.whchamber.com/events/details/mill-brook-park-hike-15909
END:VEVENT

END:VCALENDAR
