BEGIN:VCALENDAR
VERSION:2.0
PRODID:-//ChamberMaster//Event Calendar 2.0//EN
METHOD:PUBLISH
X-PUBLISHED-TTL:P3D
REFRESH-INTERVAL:P3D
CALSCALE:GREGORIAN
BEGIN:VEVENT
DTSTART:20240724T160000Z
DTEND:20240724T170000Z
X-MICROSOFT-CDO-ALLDAYEVENT:FALSE
SUMMARY:MHC Collaborative Networking Series
DESCRIPTION:This quarterly virtual meeting is open to all MHC Collaborative Members and those interested in joining or learning more about workplace mental health. Meetings take place the fourth Wednesday of every third month from 12:00 - 1:00 p.m. July's meeting will feature Sistah Anyango\, Empowerment Freedom Coach\, Motivational Speaker\, Master Teaching Artist & Fitness Professional (https://www.theflyymovement.com/the-crew).\n\n\n\nRegister at: https://us02web.zoom.us/meeting/register/tZYpf--pqDsqHNR-pb9pxOOh61-gHl0uGnKS#/registration
X-ALT-DESC;FMTTYPE=text/html:<span style="color:rgb(35\, 35\, 51)\; font-family:helvetica neue\,helvetica\,arial\,sans-serif\; font-size:14px">This quarterly virtual meeting is open to all MHC Collaborative Members and those interested in joining or learning more about workplace mental health. Meetings take place the fourth Wednesday of every third month from 12:00 - 1:00 p.m. July&#39\;s meeting will feature Sistah Anyango\, Empowerment Freedom Coach\, Motivational Speaker\, Master Teaching Artist &amp\; Fitness Professional (https://www.theflyymovement.com/the-crew).</span><br />\n<br />\nRegister at:&nbsp\;https://us02web.zoom.us/meeting/register/tZYpf--pqDsqHNR-pb9pxOOh61-gHl0uGnKS#/registration
LOCATION:Zoom
UID:e.3150.15041
SEQUENCE:3
DTSTAMP:20260424T163855Z
URL:https://business.whchamber.com/events/details/mhc-collaborative-networking-series-15041
END:VEVENT

END:VCALENDAR
