BEGIN:VCALENDAR
VERSION:2.0
PRODID:-//ChamberMaster//Event Calendar 2.0//EN
METHOD:PUBLISH
X-PUBLISHED-TTL:P3D
REFRESH-INTERVAL:P3D
CALSCALE:GREGORIAN
BEGIN:VEVENT
DTSTART:20230124T223000Z
DTEND:20230125T013000Z
X-MICROSOFT-CDO-ALLDAYEVENT:FALSE
SUMMARY:Meet & Mingle For A Cause
DESCRIPTION:Meet & Mingle For A Cause\n\nNetwork with other business professionals and join us to help raise dollars and awareness for important local charities. This event's charitable partner will be Friends Of Feeney.\n\n\n\nDetails:\n\nMeet & Mingle For A Cause\n\nJanuary 24th\, 2023 5:30 pm - 8:30 pm\n\nThe North House - 1 Nod Road\, Avon\, CT 06001\n\nCost: $15 with a suggested donation to the Friends of Feeney\n\n\n\nCharitable Partner:\n\nFriends Of Feeney\n\nThe mission of "Friends of Feeney" is to help children and families who need assistance after heartbreak and tragedy. We will fundraise for and support those in need. Eric Feeney dedicated the past 20 years of his life to educating children and helping families. This is something that he is passionate about and continues to do inside and outside of the classroom.
X-ALT-DESC;FMTTYPE=text/html:<h1 style="text-align:center">Meet &amp\; Mingle For A Cause</h1>\n\n<h2 style="text-align:center">Network with other business professionals and join us to help raise dollars and awareness for important local charities. This event&rsquo\;s charitable partner will be Friends Of Feeney.</h2>\n\n<h2 style="text-align:center"><br />\nDetails:<br />\nMeet &amp\; Mingle For A Cause<br />\nJanuary 24th\, 2023 5:30 pm - 8:30 pm<br />\nThe North House - 1 Nod Road\, Avon\, CT 06001<br />\nCost: $15 with a suggested donation to the Friends of Feeney</h2>\n\n<h2 style="text-align:center"><br />\nCharitable Partner:<br />\nFriends Of Feeney<br />\nThe mission of &ldquo\;Friends of Feeney&rdquo\; is to help children and families who need assistance after heartbreak and tragedy. We will fundraise for and support those in need. Eric Feeney dedicated the past 20 years of his life to educating children and helping families. This is something that he is passionate about and continues to do inside and outside of the classroom.</h2>\n
LOCATION:The North House - 1 Nod Road\, Avon\, CT 06001
UID:e.3150.12462
SEQUENCE:3
DTSTAMP:20260425T192950Z
URL:https://business.whchamber.com/events/details/meet-mingle-for-a-cause-12462
END:VEVENT

END:VCALENDAR
