BEGIN:VCALENDAR
VERSION:2.0
PRODID:-//ChamberMaster//Event Calendar 2.0//EN
METHOD:PUBLISH
X-PUBLISHED-TTL:P3D
REFRESH-INTERVAL:P3D
CALSCALE:GREGORIAN
BEGIN:VEVENT
DTSTART:20240313T130000Z
DTEND:20240313T140000Z
X-MICROSOFT-CDO-ALLDAYEVENT:FALSE
SUMMARY:March Infant Massage
DESCRIPTION:Come and enjoy a relaxing bonding hour with your child\, both experiencing the benefits of infant massage in a welcoming group setting. The rewards of your child participating in infant massage include improved sleep patterns and infant ability to self soothe. It can offer your baby relief for digestion issues\, including colic\, and creates a beautiful space for you to bond with your little one. This class is open to all parents and caregivers of babies aged 0-6 months.
X-ALT-DESC;FMTTYPE=text/html:<span style="font-family:calibri light\,sans-serif">Come and enjoy a relaxing bonding hour with your child\, both experiencing the benefits of infant massage in a welcoming group setting. The rewards of your child participating in infant massage include improved sleep patterns and infant ability to self soothe. It can offer your baby relief for digestion issues\, including colic\, and creates a beautiful space for you to bond with your little one. This class is open to all parents and caregivers of babies aged 0-6 months.</span>
LOCATION:141 N. Main Street\, West Hartford\, CT 06107
UID:e.3150.12748
SEQUENCE:3
DTSTAMP:20260425T000112Z
URL:https://business.whchamber.com/events/details/march-infant-massage-12748
END:VEVENT

END:VCALENDAR
