BEGIN:VCALENDAR
VERSION:2.0
PRODID:-//ChamberMaster//Event Calendar 2.0//EN
METHOD:PUBLISH
X-PUBLISHED-TTL:P3D
REFRESH-INTERVAL:P3D
CALSCALE:GREGORIAN
BEGIN:VEVENT
DTSTART:20230419T213000Z
DTEND:20230419T230000Z
X-MICROSOFT-CDO-ALLDAYEVENT:FALSE
SUMMARY:Making an Impact: Professional Development and Networking Strategies
DESCRIPTION:Making an Impact: Professional Development and Networking Strategies\n\nJoin us to learn how to make a positive impact when networking and developing yourself as a professional in the workforce.\n\n\n\nN?etworking and developing yourself professionally are methods you can use to advance your career\, regardless of your field. These activities take place in person and online\, and in this session\, we will discuss how to maximize the potential of both.\n\nWed. April 19\, 2023\n\n5:30 p.m.-7 p.m.\n\nUniversity of Saint Joseph\n\nMercy Hall Crystal Room\n\n1678 Asylum Ave.\n\nWest Hartford\, CT 06117
X-ALT-DESC;FMTTYPE=text/html:<h1 style="margin-left:0px\; margin-right:0px">Making an Impact: Professional Development and Networking Strategies</h1>\n\n<p style="margin-left:0px\; margin-right:0px">Join us to learn how to make a positive impact when networking and developing yourself as a professional in the workforce.</p>\n\n<div>\n<div>\n<p>N?etworking and developing yourself professionally are methods you can use to advance your career\, regardless of your field. These activities take place in person and online\, and in this session\, we will discuss how to maximize the potential of both.</p>\n\n<div>Wed. April 19\, 2023<br />\n5:30 p.m.-7 p.m.<br />\nUniversity of Saint Joseph<br />\nMercy Hall Crystal Room<br />\n1678 Asylum Ave.<br />\nWest Hartford\, CT 06117</div>\n</div>\n</div>\n
LOCATION:Wed. April 19\, 2023 5:30 p.m.-7 p.m. University of Saint Joseph Mercy Hall Crystal Room 1678 Asylum Ave. West Hartford\, CT 06117
UID:e.3150.12510
SEQUENCE:3
DTSTAMP:20260425T154002Z
URL:https://business.whchamber.com/events/details/making-an-impact-professional-development-and-networking-strategies-12510
END:VEVENT

END:VCALENDAR
