BEGIN:VCALENDAR
VERSION:2.0
PRODID:-//ChamberMaster//Event Calendar 2.0//EN
METHOD:PUBLISH
X-PUBLISHED-TTL:P3D
REFRESH-INTERVAL:P3D
CALSCALE:GREGORIAN
BEGIN:VEVENT
DTSTART:20211122T000000Z
DTEND:20211122T013000Z
X-MICROSOFT-CDO-ALLDAYEVENT:FALSE
SUMMARY:Live in Concert: Guy Mintus Trio\, Performing "A Gershwins' Playground"
DESCRIPTION:Sensational Israeli jazz pianist Guy Mintus performs an entire album of music dedicated to composer George Gershwin at the Mandell JCC Herbert & Evelyn Gilman Theater.\n\n \n\nMintus injects his trademark high-voltage energy\, including rapid-fire piano fills and a pulsating jazz beat\, to what's normally a placid lullaby.\n\n \n\nSunday\, November 21 | 7:00 p.m.\n\nTICKETS: $25/$18 Students\n\nhttps://bit.ly/MandellJCCGuyMintusConcert\n\n\n\nCo-Sponsored by:\n\n- Consulate General of Israel to New England\n\n- Ted Kaplan & Bobbie Woronow\n\n\n\n"For any listeners wondering if the world needs another Gershwin tribute album\, in Mintus' hands\, the answer is an unqualified yes. His deep respect for the master's genius is abundantly evident\, yet Mintus does not hesitate to put his signature stamp on each of these tunes." ~www.allaboutjazz.com
X-ALT-DESC;FMTTYPE=text/html:<div><span style="font-family:times new roman">Sensational Israeli jazz pianist Guy Mintus performs an entire album of music dedicated to composer George Gershwin at the Mandell JCC Herbert &amp\; Evelyn Gilman Theater.</span><br />\n&nbsp\;</div>\n\n<div><span style="font-family:times new roman">Mintus injects his trademark high-voltage energy\, including rapid-fire piano fills and a pulsating jazz beat\, to what&rsquo\;s normally a placid lullaby.</span><br />\n&nbsp\;</div>\n\n<div><span style="font-family:times new roman">Sunday\, November 21 | 7:00 p.m.<br />\n<strong>TICKETS:</strong> $25/$18 Students</span></div>\n\n<div><span style="font-family:times new roman"><a class="oajrlxb2 g5ia77u1 qu0x051f esr5mh6w e9989ue4 r7d6kgcz rq0escxv nhd2j8a9 nc684nl6 p7hjln8o kvgmc6g5 cxmmr5t8 oygrvhab hcukyx3x jb3vyjys rz4wbd8a qt6c0cv9 a8nywdso i1ao9s8h esuyzwwr f1sip0of lzcic4wl py34i1dx gpro0wi8" href="https://bit.ly/MandellJCCGuyMintusConcert?fbclid=IwAR0wyM-SAsVGw6NZne3DTJz3xBRMshDjTiXn6CVW7Q95Tsf4_zsSQdB1JzM" rel="nofollow noopener" style="color: var(--blue-link)\; font-family: inherit\; text-align: inherit\; background-color: transparent\; cursor: pointer\; text-decoration-line: none\; outline: none\; list-style: none\; border-width: 0px\; border-style: initial\; border-color: initial\; padding: 0px\; margin: 0px\; touch-action: manipulation\; display: inline\; -webkit-tap-highlight-color: transparent\; box-sizing: border-box\;" tabindex="0" target="_blank"><strong><u>https://bit.ly/MandellJCCGuyMintusConcert</u></strong></a><br />\n<br />\nCo-Sponsored by:<br />\n- Consulate General of Israel to New England<br />\n- Ted Kaplan &amp\; Bobbie Woronow</span></div>\n\n<div><br />\n<span style="font-family:times new roman"><em>&quot\;For any listeners wondering if the world needs another Gershwin tribute album\, in Mintus&#39\; hands\, the answer is an unqualified yes. His deep respect for the master&#39\;s genius is abundantly evident\, yet Mintus does not hesitate to put his signature stamp on each of these tunes.&quot\; </em>~<a class="oajrlxb2 g5ia77u1 qu0x051f esr5mh6w e9989ue4 r7d6kgcz rq0escxv nhd2j8a9 nc684nl6 p7hjln8o kvgmc6g5 cxmmr5t8 oygrvhab hcukyx3x jb3vyjys rz4wbd8a qt6c0cv9 a8nywdso i1ao9s8h esuyzwwr f1sip0of lzcic4wl py34i1dx gpro0wi8" href="http://www.allaboutjazz.com/?fbclid=IwAR3KaOqERWU-huoEKkUABCzp2FQT9mageWK9pPcQzTohsbzG_3YitbnwU0w" rel="nofollow noopener" style="background-color: transparent\; font-family: inherit\; color: var(--blue-link)\; cursor: pointer\; text-decoration-line: none\; outline: none\; list-style: none\; border-width: 0px\; border-style: initial\; border-color: initial\; padding: 0px\; margin: 0px\; touch-action: manipulation\; text-align: inherit\; display: inline\; -webkit-tap-highlight-color: transparent\; box-sizing: border-box\;" tabindex="0" target="_blank">www.allaboutjazz.com</a></span></div>\n
LOCATION:Herbert & Evelyn Gilman Theater at the Mandell JCC 335 Bloomfield Ave. West Hartford\, CT 06117
UID:e.3150.9266
SEQUENCE:3
DTSTAMP:20260425T164907Z
URL:https://business.whchamber.com/events/details/live-in-concert-guy-mintus-trio-performing-a-gershwins-playground-9266
END:VEVENT

END:VCALENDAR
