BEGIN:VCALENDAR
VERSION:2.0
PRODID:-//ChamberMaster//Event Calendar 2.0//EN
METHOD:PUBLISH
X-PUBLISHED-TTL:P3D
REFRESH-INTERVAL:P3D
CALSCALE:GREGORIAN
BEGIN:VEVENT
DTSTART:20240530T193000Z
DTEND:20240530T233000Z
X-MICROSOFT-CDO-ALLDAYEVENT:FALSE
SUMMARY:Light Up With Color
DESCRIPTION:Light Up with Color! Join us for a calming\, in-person\, adult coloring session where you can learn about the power of mindfulness through art! We will celebrate Mental Health Awareness Month and explore how coloring can help you relax and feel good mentally.\n\n\n\nAn assortment of individual coloring sheets\, collaborative coloring posters\, and tablets will be available for participants to experience coloring both on paper and in the Happy Color App! Colored pencils\, markers and other art supplies will be available\, and participants are welcome to bring their own preferred coloring utensils too. Snacks and beverages will be provided.\n\n\n\nRegistration is required.\n\n\n\nThis FREE event is generously supported by the Happy Color App and Mental Health America.
X-ALT-DESC;FMTTYPE=text/html:<strong><span style="font-family:aptos\,sans-serif">Light Up with Color!</span></strong><span style="font-family:aptos\,sans-serif"> Join us for a calming\, in-person\, adult coloring session where you can learn about the power of mindfulness through art! We will celebrate Mental Health Awareness Month and explore how coloring can help you relax and feel good mentally.</span><br />\n<br />\n<span style="font-family:aptos\,sans-serif">An assortment of individual coloring sheets\, collaborative coloring posters\, and tablets will be available for participants to experience coloring both on paper and in the Happy Color App! Colored pencils\, markers and other art supplies will be available\, and participants are welcome to bring their own preferred coloring utensils too. Snacks and beverages will be provided.</span><br />\n<br />\n<strong><span style="font-family:aptos\,sans-serif">Registration is required.</span></strong><br />\n<br />\n<strong><em><span style="font-family:aptos\,sans-serif">This FREE event is generously supported by the Happy Color App and Mental Health America.</span></em></strong>
LOCATION:Silas Bronson Library\, 267 Grans St. Waterbury\, CT 06702
UID:e.3150.12997
SEQUENCE:3
DTSTAMP:20260424T210018Z
URL:https://business.whchamber.com/events/details/light-up-with-color-12997
END:VEVENT

END:VCALENDAR
