BEGIN:VCALENDAR
VERSION:2.0
PRODID:-//ChamberMaster//Event Calendar 2.0//EN
METHOD:PUBLISH
X-PUBLISHED-TTL:P3D
REFRESH-INTERVAL:P3D
CALSCALE:GREGORIAN
BEGIN:VEVENT
DTSTART:20211130T000000Z
DTEND:20211130T010000Z
X-MICROSOFT-CDO-ALLDAYEVENT:FALSE
SUMMARY:Light Up The Night
DESCRIPTION:Ignite a spark in yourself and your community. Join the Emerging Leadership Division of the Jewish Federation of Greater Hartford and the Spiritual Life Center as we light the Hanukkah candles together.
X-ALT-DESC;FMTTYPE=text/html:Ignite a spark in yourself and your community. Join the Emerging Leadership Division of the Jewish Federation of Greater Hartford and the Spiritual Life Center as we light the Hanukkah candles together.
LOCATION:
UID:e.3150.9285
SEQUENCE:3
DTSTAMP:20260425T164505Z
URL:https://business.whchamber.com/events/details/light-up-the-night-9285
END:VEVENT

END:VCALENDAR
