BEGIN:VCALENDAR
VERSION:2.0
PRODID:-//ChamberMaster//Event Calendar 2.0//EN
METHOD:PUBLISH
X-PUBLISHED-TTL:P3D
REFRESH-INTERVAL:P3D
CALSCALE:GREGORIAN
BEGIN:VEVENT
DTSTART:20250305T233000Z
DTEND:20250306T003000Z
X-MICROSOFT-CDO-ALLDAYEVENT:FALSE
SUMMARY:Light Pollution and Its Effects on Birds\, Wildlife\, and Human Health
DESCRIPTION:The Dark Side of Light. A growing body of research suggests that the glow of uncontrolled outdoor lighting is having profound ecological impacts on migrating birds and other nocturnal wildlife. It is also affecting our own health. Learn how you can reduce light pollution around your home and help provide migrating birds safe passage between their spring nesting and wintering grounds. Presented by Margery Winters\, Assistant Director at Roaring Brook Nature Center.\n\n\n\nCo-sponsored by: Bloomfield Conservation Energy & Environmental Committee and Bloomfield Parks\, Recreation and Leisure Services\n\n\n\nRSVP to receive Webinar link: https://bloomfieldct.zoom.us/webinar/register/WN_1RbICzEoTDqeIkcbQCuCqA#/registration
X-ALT-DESC;FMTTYPE=text/html:<span style="font-family:helvetica\,arial\,sans-serif\; font-size:14px">The Dark Side of Light. A growing body of research suggests that the glow of uncontrolled outdoor lighting is having profound ecological impacts on migrating birds and other nocturnal wildlife. It is also affecting our own health. Learn how you can reduce light pollution around your home and help provide migrating birds safe passage between their spring nesting and wintering grounds. Presented by Margery Winters\, Assistant Director at Roaring Brook Nature Center.<br />\n<br />\nCo-sponsored by: Bloomfield Conservation Energy &amp\; Environmental Committee and Bloomfield Parks\, Recreation and Leisure Services<br />\n<br />\nRSVP to receive Webinar link:&nbsp\;</span><a href="https://bloomfieldct.zoom.us/webinar/register/WN_1RbICzEoTDqeIkcbQCuCqA#/registrationCo-sponsored" style="color: rgb(17\, 85\, 204)\; font-family: Helvetica\, Arial\, sans-serif\; font-size: 14px\;" target="_blank">https://bloomfieldct.zoom.us/webinar/register/WN_1RbICzEoTDqeIkcbQCuCqA#/registration</a>
LOCATION:Via Zoom
UID:e.3150.15854
SEQUENCE:3
DTSTAMP:20260424T025332Z
URL:https://business.whchamber.com/events/details/light-pollution-and-its-effects-on-birds-wildlife-and-human-health-15854
END:VEVENT

END:VCALENDAR
