BEGIN:VCALENDAR
VERSION:2.0
PRODID:-//ChamberMaster//Event Calendar 2.0//EN
METHOD:PUBLISH
X-PUBLISHED-TTL:P3D
REFRESH-INTERVAL:P3D
CALSCALE:GREGORIAN
BEGIN:VEVENT
DTSTART:20240321T220000Z
DTEND:20240322T000000Z
X-MICROSOFT-CDO-ALLDAYEVENT:FALSE
SUMMARY:Lifestyle Magazine Reader’s Choice Celebration
DESCRIPTION:Reader's Choice Awards Winners Celebration Come join us for a spectacular celebration at the Farmington Polo Club! Please join us as the West Hartford and Glastonbury Lifestyle Magazines celebrate our communities leaders in business! Join us as we enjoy delicious passed appetizers\, one drink on us (Cash bar after that)\, an appreciation bag with a giftcard and other swag\, one raffle ticket\, photo opportunity in front of our custom backdrop\, music\, dancing\, and networking too! Each winner will recieve a medal for braging rights! A portion of proceeds will be donated to The Olive Branch and The Miracle Leauge. Let's take our hats off to the outstanding individuals and businesses that have captured the hearts of our readers and their communities. Be prepared for a memorable evening of celebration\, laughter\, and joy as we raise a toast to the incredible achievements of our winners. Don't miss out on this special event! Come and share in the excitement as we honor the outstanding contributions that have made a difference in our community.
X-ALT-DESC;FMTTYPE=text/html:Reader&#39\;s Choice Awards Winners Celebration Come join us for a spectacular celebration at the Farmington Polo Club! Please join us as the West Hartford and Glastonbury Lifestyle Magazines celebrate our communities leaders in business! Join us as we enjoy delicious passed appetizers\, one drink on us (Cash bar after that)\, an appreciation bag with a giftcard and other swag\, one raffle ticket\, photo opportunity in front of our custom backdrop\, music\, dancing\, and networking too! Each winner will recieve a medal for braging rights! A portion of proceeds will be donated to The Olive Branch and The Miracle Leauge. Let&rsquo\;s take our hats off to the outstanding individuals and businesses that have captured the hearts of our readers and their communities. Be prepared for a memorable evening of celebration\, laughter\, and joy as we raise a toast to the incredible achievements of our winners. Don&#39\;t miss out on this special event! Come and share in the excitement as we honor the outstanding contributions that have made a difference in our community.
LOCATION:The Farmington Polo Club Address: Town Farm Road\, Farmington\, CT\, USA
UID:e.3150.12953
SEQUENCE:3
DTSTAMP:20260424T222712Z
URL:https://business.whchamber.com/events/details/lifestyle-magazine-reader-s-choice-celebration-12953
END:VEVENT

END:VCALENDAR
