BEGIN:VCALENDAR
VERSION:2.0
PRODID:-//ChamberMaster//Event Calendar 2.0//EN
METHOD:PUBLISH
X-PUBLISHED-TTL:P3D
REFRESH-INTERVAL:P3D
CALSCALE:GREGORIAN
BEGIN:VEVENT
DTSTART:20240413T173000Z
DTEND:20240413T193000Z
X-MICROSOFT-CDO-ALLDAYEVENT:FALSE
SUMMARY:Life on the Webster Farm: Work Days - Early American Games & Toys
DESCRIPTION:Visit the Noah Webster House & West Hartford Historical Society on Saturday\, April 13 from 1:30pm - 3:30pm to enjoy live demonstrations from our experienced team of museum educators. Each demonstration will focus on a unique aspect of early American work and play. April's program will feature popular toys and games in Early America! While early Americans in New England worked hard to fulfill household and farming responsibilities\, they also found some time to have fun! Museum teachers will show your family how to play centuries-old games like "Jack Straws" and you can try your hand at Early American toys like the "ball & cup\," the Jacob's ladder\, a hand top\, or a "button buzzer." Make your own "button buzzer" to take home with you! This program is included in museum admission. Enjoy FREE general admission for children under 12 for this event! For more information\, please email events@noahwebsterhouse.org or visit www.noahwebsterhouse.org/work-days. Thank you to our 2023-2024 Sponsor\, the Rotary Club of West Hartford!
X-ALT-DESC;FMTTYPE=text/html:Visit the Noah Webster House &amp\; West Hartford Historical Society on Saturday\, April 13 from 1:30pm - 3:30pm to enjoy live demonstrations from our experienced team of museum educators. Each demonstration will focus on a unique aspect of early American work and play. April&rsquo\;s program will feature popular toys and games in Early America! While early Americans in New England worked hard to fulfill household and farming responsibilities\, they also found some time to have fun! Museum teachers will show your family how to play centuries-old games like &ldquo\;Jack Straws&rdquo\; and you can try your hand at Early American toys like the &ldquo\;ball &amp\; cup\,&rdquo\; the Jacob&rsquo\;s ladder\, a hand top\, or a &ldquo\;button buzzer.&rdquo\; Make your own &ldquo\;button buzzer&rdquo\; to take home with you! This program is included in museum admission. Enjoy FREE general admission for children under 12 for this event! For more information\, please email events@noahwebsterhouse.org or visit www.noahwebsterhouse.org/work-days. Thank you to our 2023-2024 Sponsor\, the Rotary Club of West Hartford!
LOCATION:Noah Webster House & West Hartford Historical Society 227 South Main Street\, West Hartford\, CT\, 06107
UID:e.3150.12961
SEQUENCE:3
DTSTAMP:20260424T210330Z
URL:https://business.whchamber.com/events/details/life-on-the-webster-farm-work-days-early-american-games-toys-12961
END:VEVENT

END:VCALENDAR
