BEGIN:VCALENDAR
VERSION:2.0
PRODID:-//ChamberMaster//Event Calendar 2.0//EN
METHOD:PUBLISH
X-PUBLISHED-TTL:P3D
REFRESH-INTERVAL:P3D
CALSCALE:GREGORIAN
BEGIN:VEVENT
DTSTART:20240309T183000Z
DTEND:20240309T203000Z
X-MICROSOFT-CDO-ALLDAYEVENT:FALSE
SUMMARY:Life on the Webster Farm: Work Days - Dancing the Time Away in Early America!
DESCRIPTION:Visit the Noah Webster House & West Hartford Historical Society on Saturday\, March 9 from 1:30pm - 3:30pm to enjoy live demonstrations from our experienced team of museum educators. Each demonstration will focus on a unique aspect of early American work and play. March's program will feature popular dances in Early America! Dancing was a favorite pastime of early Americans\, including Noah Webster. Men\, women\, and children found relief from work by taking part in dancing. It was a time to "kick up your heels" and enjoy time with family and friends. Join us at the Noah Webster House and learn how to dance the Townsend Reel and a favorite among children\, Allee-Allee-O. This program is included in museum admission. Enjoy FREE general admission for children under 12 for this event! For more information\, please email events@noahwebsterhouse.org or visit www.noahwebsterhouse.org/work-days. Thank you to our 2023-2024 Sponsor\, the Rotary Club of West Hartford!
X-ALT-DESC;FMTTYPE=text/html:Visit the Noah Webster House &amp\; West Hartford Historical Society on Saturday\, March 9 from 1:30pm - 3:30pm to enjoy live demonstrations from our experienced team of museum educators. Each demonstration will focus on a unique aspect of early American work and play. March&rsquo\;s program will feature popular dances in Early America! Dancing was a favorite pastime of early Americans\, including Noah Webster. Men\, women\, and children found relief from work by taking part in dancing. It was a time to &ldquo\;kick up your heels&rdquo\; and enjoy time with family and friends. Join us at the Noah Webster House and learn how to dance the Townsend Reel and a favorite among children\, Allee-Allee-O. This program is included in museum admission. Enjoy FREE general admission for children under 12 for this event! For more information\, please email events@noahwebsterhouse.org or visit www.noahwebsterhouse.org/work-days. Thank you to our 2023-2024 Sponsor\, the Rotary Club of West Hartford!
LOCATION:Noah Webster House & West Hartford Historical Society 227 South Main Street\, West Hartford\, CT\, 06107
UID:e.3150.12756
SEQUENCE:3
DTSTAMP:20260424T222953Z
URL:https://business.whchamber.com/events/details/life-on-the-webster-farm-work-days-dancing-the-time-away-in-early-america-12756
END:VEVENT

END:VCALENDAR
