BEGIN:VCALENDAR
VERSION:2.0
PRODID:-//ChamberMaster//Event Calendar 2.0//EN
METHOD:PUBLISH
X-PUBLISHED-TTL:P3D
REFRESH-INTERVAL:P3D
CALSCALE:GREGORIAN
BEGIN:VEVENT
DTSTART:20240608T170000Z
DTEND:20240608T200000Z
X-MICROSOFT-CDO-ALLDAYEVENT:FALSE
SUMMARY:Life on the Webster Farm: Work Day
DESCRIPTION:Celebrate CT Open House Day at the Noah Webster House! Visit for FREE on June 8th! Stop by on your way to Celebrate West Hartford. Our museum teachers will lead you through a tour of Webster's East Garden to explore how herbs were used for flavoring food\, making medicine\, fragrances and insecticides. Create a lavender sachet to take home with you.
X-ALT-DESC;FMTTYPE=text/html:Celebrate CT Open House Day at the Noah Webster House! Visit for FREE on June 8th! Stop by on your way to Celebrate West Hartford. Our museum teachers will lead you through a tour of Webster&rsquo\;s East Garden to explore how herbs were used for flavoring food\, making medicine\, fragrances and insecticides. Create a lavender sachet to take home with you.
LOCATION:Noah Webster House 227 South Main St. West Hartford\, CT\, 06107
UID:e.3150.13008
SEQUENCE:3
DTSTAMP:20260424T193817Z
URL:https://business.whchamber.com/events/details/life-on-the-webster-farm-work-day-13008
END:VEVENT

END:VCALENDAR
