BEGIN:VCALENDAR
VERSION:2.0
PRODID:-//ChamberMaster//Event Calendar 2.0//EN
METHOD:PUBLISH
X-PUBLISHED-TTL:P3D
REFRESH-INTERVAL:P3D
CALSCALE:GREGORIAN
BEGIN:VEVENT
DTSTART:20240316T150000Z
DTEND:20240316T170000Z
X-MICROSOFT-CDO-ALLDAYEVENT:FALSE
SUMMARY:Kilwins First-Year Anniversary Bash
DESCRIPTION:One Year Sweeter! Join Kilwins for our First Year Anniversary Bash! Free treats\, games\, prizes & smiles!\n\nSaturday\, March 16th\, from 11-1 pm.
X-ALT-DESC;FMTTYPE=text/html:<p><span style="background-color:transparent\; color:rgb(31\, 31\, 31)\; font-family:arial\,sans-serif\; font-size:11pt">One Year Sweeter! Join Kilwins for our First Year Anniversary Bash! Free treats\, games\, prizes &amp\; smiles!</span></p>\n\n<p><span style="font-size:14.6667px">Saturday\, March 16th\, from 11-1 pm.</span></p>\n\n<div>&nbsp\;</div>\n
LOCATION:Webster Square Isham Road West Hartford CT
UID:e.3150.12817
SEQUENCE:3
DTSTAMP:20260424T222623Z
URL:https://business.whchamber.com/events/details/kilwins-anniversary-bash-12817
END:VEVENT

END:VCALENDAR
