BEGIN:VCALENDAR
VERSION:2.0
PRODID:-//ChamberMaster//Event Calendar 2.0//EN
METHOD:PUBLISH
X-PUBLISHED-TTL:P3D
REFRESH-INTERVAL:P3D
CALSCALE:GREGORIAN
BEGIN:VEVENT
DTSTART;VALUE=DATE:20250502
DTEND;VALUE=DATE:20250524
TRANSP:TRANSPARENT
X-MICROSOFT-CDO-ALLDAYEVENT:TRUE
SUMMARY:Junior League of Hartford Designer Show House
DESCRIPTION:Come tour 820 Prospect Avenue\, a 1902 Tudor estate in Hartford's historic West End. Dozens of designers have transformed each room of the house to showcase their style. All proceeds for charity. The Designer Show House is the Junior League of Hartford's signature fundraising event\, and over the years has raised more than $1.7 million to support charitable projects and programs in the Greater Hartford Community. This highly anticipated event occurs every three years\, and is unlike any event in Central Connecticut. Every Show House\, the Junior League spends many months searching for a notable home or estate in the Greater Hartford area\, and selects designers to makeover the interior and grounds. After transformation\, the public is invited to view the grand home that has been redesigned from the inside out. The Designer Show House is more than a home tour\, it is an experience. Come see how dozens of talented designers from across the region transformed 820 Prospect Avenue\, a 1902 Tudor estate in Hartford's historic West End. The Junior League of Hartford is a member of the West Hartford Chamber of Commerce.
X-ALT-DESC;FMTTYPE=text/html:Come tour 820 Prospect Avenue\, a 1902 Tudor estate in Hartford&#39\;s historic West End. Dozens of designers have transformed each room of the house to showcase their style. All proceeds for charity. The Designer Show House is the Junior League of Hartford&rsquo\;s signature fundraising event\, and over the years has raised more than $1.7 million to support charitable projects and programs in the Greater Hartford Community. This highly anticipated event occurs every three years\, and is unlike any event in Central Connecticut. Every Show House\, the Junior League spends many months searching for a notable home or estate in the Greater Hartford area\, and selects designers to makeover the interior and grounds. After transformation\, the public is invited to view the grand home that has been redesigned from the inside out. The Designer Show House is more than a home tour\, it is an experience. Come see how dozens of talented designers from across the region transformed 820 Prospect Avenue\, a 1902 Tudor estate in Hartford&#39\;s historic West End. The Junior League of Hartford is a member of the West Hartford Chamber of Commerce.
LOCATION:820 Prospect Avenue\, Hartford\, CT
UID:e.3150.15897
SEQUENCE:3
DTSTAMP:20260424T095506Z
URL:https://business.whchamber.com/events/details/junior-league-of-hartford-designer-show-house-15897
END:VEVENT

END:VCALENDAR
