BEGIN:VCALENDAR
VERSION:2.0
PRODID:-//ChamberMaster//Event Calendar 2.0//EN
METHOD:PUBLISH
X-PUBLISHED-TTL:P3D
REFRESH-INTERVAL:P3D
CALSCALE:GREGORIAN
BEGIN:VEVENT
DTSTART:20221027T150000Z
DTEND:20221027T160000Z
X-MICROSOFT-CDO-ALLDAYEVENT:FALSE
SUMMARY:Introduction to the CT Small Business Boost Fund
DESCRIPTION:Presenters: Lacey Banks McGill\, Women's Business Center Program Manager Janet Johnson\, Boost Advisor\, and Small Business Coach Many small businesses in Connecticut experience barriers to accessing financial resources. This is especially true for businesses in distressed municipalities and those led by women\, individuals with disabilities\, veterans\, and people of color. The Connecticut Small Business Boost Fund was created to provide access to working capital for those who need it most. Join us on one of the 3 dates offered to learn about this new opportunity\, get help accessing the funds\, and invest in your success.
X-ALT-DESC;FMTTYPE=text/html:Presenters: Lacey Banks McGill\, Women&#39\;s Business Center Program Manager Janet Johnson\, Boost Advisor\, and Small Business Coach Many small businesses in Connecticut experience barriers to accessing financial resources. This is especially true for businesses in distressed municipalities and those led by women\, individuals with disabilities\, veterans\, and people of color. The Connecticut Small Business Boost Fund was created to provide access to working capital for those who need it most. Join us on one of the 3 dates offered to learn about this new opportunity\, get help accessing the funds\, and invest in your success.
LOCATION:Online Registration. Please know this webinar will not be recorded.
UID:e.3150.12394
SEQUENCE:3
DTSTAMP:20260425T235950Z
URL:https://business.whchamber.com/events/details/introduction-to-the-ct-small-business-boost-fund-12394
END:VEVENT

END:VCALENDAR
