BEGIN:VCALENDAR
VERSION:2.0
PRODID:-//ChamberMaster//Event Calendar 2.0//EN
METHOD:PUBLISH
X-PUBLISHED-TTL:P3D
REFRESH-INTERVAL:P3D
CALSCALE:GREGORIAN
BEGIN:VEVENT
DTSTART:20230119T160000Z
DTEND:20230119T170000Z
X-MICROSOFT-CDO-ALLDAYEVENT:FALSE
SUMMARY:Introduction to CT Small Business Boost Fund
DESCRIPTION:Introduction to CT Small Business Boost Fund Thursday\, January 19\, 2023\, 11 a.m.   12 p.m.\n			\n		\n	\n\n\n\n	\n		\n			\n			Many small businesses in Connecticut experience barriers to accessing financial resources. This is especially true for businesses in distressed municipalities and those led by women\, individuals with disabilities\, veterans\, and people of color. The Connecticut Small Business Boost Fund was created to provide access to working capital for those who need it most. Learn about this new opportunity\, get help accessing the funds\, and invest in your success!\n\n			Register:  https://bit.ly/3USVBhV\n\n			Presenter: Janet Johnson\, MyMoneyPivot
X-ALT-DESC;FMTTYPE=text/html:<table border="0" cellpadding="0" cellspacing="0" style="border-collapse:collapse\; color:rgb(34\, 34\, 34)\; font-family:lato\,helvetica neue\,helvetica\,arial\,sans-serif\; font-size:16px\; text-size-adjust:100%">\n	<tbody>\n		<tr>\n			<td>\n			<h3>Introduction to CT Small Business Boost Fund Thursday\, January 19\, 2023\, 11&nbsp\;a.m.&nbsp\;&ndash\;&nbsp\;12&nbsp\;p.m.</h3>\n			</td>\n		</tr>\n	</tbody>\n</table>\n\n<table border="0" cellpadding="0" cellspacing="0" style="border-collapse:collapse\; color:rgb(34\, 34\, 34)\; font-family:lato\,helvetica neue\,helvetica\,arial\,sans-serif\; font-size:16px\; text-size-adjust:100%">\n	<tbody>\n		<tr>\n			<td>\n			<p>Many small businesses in Connecticut experience barriers to accessing financial resources. This is especially true for businesses in distressed municipalities and those led by women\, individuals with disabilities\, veterans\, and people of color. The Connecticut Small Business Boost Fund was created to provide access to working capital for those who need it most. Learn about this new opportunity\, get help accessing the funds\, and invest in your success!</p>\n\n			<p>Register:&nbsp\;&nbsp\;<a href="https://bit.ly/3USVBhV" rel="noopener" style="text-size-adjust: 100%\; color: rgb(0\, 124\, 137)\;" target="_blank">https://bit.ly/3USVBhV</a></p>\n\n			<p>Presenter: Janet Johnson\, MyMoneyPivot</p>\n			</td>\n		</tr>\n	</tbody>\n</table>\n
LOCATION:
UID:e.3150.12435
SEQUENCE:3
DTSTAMP:20260425T205456Z
URL:https://business.whchamber.com/events/details/introduction-to-ct-small-business-boost-fund-12435
END:VEVENT

END:VCALENDAR
