BEGIN:VCALENDAR
VERSION:2.0
PRODID:-//ChamberMaster//Event Calendar 2.0//EN
METHOD:PUBLISH
X-PUBLISHED-TTL:P3D
REFRESH-INTERVAL:P3D
CALSCALE:GREGORIAN
BEGIN:VEVENT
DTSTART:20230216T160000Z
DTEND:20230216T170000Z
X-MICROSOFT-CDO-ALLDAYEVENT:FALSE
SUMMARY:Introduction to CT Small Business Boost Fund
DESCRIPTION:How to Start Your Own Small BusinessWednesday\, February 8\, 2023\, 4 ? 6 p.m.\n		\n	\n\n \n\n\n	\n		\n			As the economic landscape continues to shift\, this is a great time to consider your small business options. Whether you are an aspiring entrepreneur or interested in creating a side gig\, move your ideas into action!  In this workshop\, you will learn how to:\n\n			\n				Navigate governmental regulations\n				Find resources and plan action steps to reach your goal\n			\n			Explore how your experience\, financial resources\, and lifestyle needs affect your business options\n\n			Register:  https://bit.ly/3CHKYrK\n\n			Presenter: Janet Johnson\, MyMoneyPivot   \n\n			 \n\n			 \n\n			 \n\n			 \n			\n				\n					\n						Introduction to CT Small Business Boost FundThursday\, February 16\, 2023\, 11 a.m. ? 12 p.m.\n					\n				\n			\n			 \n\n			\n				\n					\n						Many small businesses in Connecticut experience barriers to accessing financial resources. This is especially true for businesses in distressed municipalities and those led by women\, individuals with disabilities\, veterans\, and people of color. The Connecticut Small Business Boost Fund was created to provide access to working capital for those who need it most. Learn about this new opportunity\, get help accessing the funds\, and invest in your success!\n\n						\n\n						Register:  https://bit.ly/3WrLQIi\n\n						\n\n						Presenter: Janet Johnson\, MyMoneyPivot
X-ALT-DESC;FMTTYPE=text/html:<table border="1" cellpadding="0" cellspacing="0" style="border-bottom:solid #BFBFBF 1.0pt\; border:none\; width:624px">\n	<tbody>\n		<tr>\n			<td style="vertical-align:bottom\; width:624px">&nbsp\;<br>\n			<strong><span style="color:black"><span style="font-family:arial\,sans-serif"><span style="font-size:12.0pt">How to Start Your Own Small Business</span></span></span></strong><span style="color:black"><span style="font-family:arial\,sans-serif"><span style="font-size:9.0pt">Wednesday\, February 8\, 2023\, 4&nbsp\;?&nbsp\;6&nbsp\;p.m.</span></span></span></td>\n		</tr>\n	</tbody>\n</table>\n&nbsp\;\n\n<table border="0" cellpadding="0" cellspacing="0" style="width:586px">\n	<tbody>\n		<tr>\n			<td style="vertical-align:top"><span style="color:black"><span style="font-family:arial\,sans-serif"><span style="font-size:9.0pt">As the economic landscape continues to shift\, this is a great time to consider your small business options. Whether you are an aspiring entrepreneur or interested in creating a side gig\, move your ideas into action!&nbsp\; In this workshop\, you will learn how to:</span></span></span>\n\n			<ul>\n				<li><span style="font-family:arial\,sans-serif"><span style="font-size:9.0pt">Navigate governmental regulations</span></span></li>\n				<li><span style="font-family:arial\,sans-serif"><span style="font-size:9.0pt">Find resources and plan action steps to reach your goal</span></span></li>\n			</ul>\n			<span style="color:black"><span style="font-family:arial\,sans-serif"><span style="font-size:9.0pt">Explore how your experience\, financial resources\, and lifestyle needs affect your business options</span></span></span><br>\n			<span style="color:black"><span style="font-family:arial\,sans-serif"><span style="font-size:9.0pt">Register:&nbsp\;&nbsp\;<a href="https://bit.ly/3CHKYrK" target="_blank"><span style="color:#CC0000">https://bit.ly/3CHKYrK</span></a></span></span></span><br>\n			<span style="color:black"><span style="font-family:arial\,sans-serif"><span style="font-size:9.0pt">Presenter: Janet Johnson\, MyMoneyPivot&nbsp\;&nbsp\;&nbsp\;</span></span></span><br>\n			&nbsp\;<br>\n			&nbsp\;<br>\n			&nbsp\;<br>\n			&nbsp\;\n			<table border="1" cellpadding="0" cellspacing="0" style="border-bottom:solid #BFBFBF 1.0pt\; border:none\; width:586px">\n				<tbody>\n					<tr>\n						<td style="vertical-align:bottom"><strong><span style="color:black"><span style="font-family:arial\,sans-serif"><span style="font-size:12.0pt">Introduction to CT Small Business Boost Fund</span></span></span></strong><span style="color:black"><span style="font-family:arial\,sans-serif"><span style="font-size:9.0pt">Thursday\, February 16\, 2023\, 11&nbsp\;a.m.&nbsp\;?&nbsp\;12&nbsp\;p.m.</span></span></span></td>\n					</tr>\n				</tbody>\n			</table>\n			&nbsp\;\n\n			<table border="0" cellpadding="0" cellspacing="0" style="width:586px">\n				<tbody>\n					<tr>\n						<td style="vertical-align:top"><span style="color:black"><span style="font-family:arial\,sans-serif"><span style="font-size:9.0pt">Many small businesses in Connecticut experience barriers to accessing financial resources. This is especially true for businesses in distressed municipalities and those led by women\, individuals with disabilities\, veterans\, and people of color. The Connecticut Small Business Boost Fund was created to provide access to working capital for those who need it most. Learn about this new opportunity\, get help accessing the funds\, and invest in your success!</span></span></span><br>\n						<br>\n						<span style="color:black"><span style="font-family:arial\,sans-serif"><span style="font-size:9.0pt">Register:&nbsp\;&nbsp\;<a href="https://bit.ly/3WrLQIi" target="_blank"><span style="color:#CC0000">https://bit.ly/3WrLQIi</span></a></span></span></span><br>\n						<br>\n						<span style="color:black"><span style="font-family:arial\,sans-serif"><span style="font-size:9.0pt">Presenter: Janet Johnson\, MyMoneyPivot</span></span></span></td>\n					</tr>\n				</tbody>\n			</table>\n			</td>\n		</tr>\n	</tbody>\n</table>\n
LOCATION:
UID:e.3150.12487
SEQUENCE:3
DTSTAMP:20260425T181310Z
URL:https://business.whchamber.com/events/details/introduction-to-ct-small-business-boost-fund-02-16-2023-12487
END:VEVENT

END:VCALENDAR
