BEGIN:VCALENDAR
VERSION:2.0
PRODID:-//ChamberMaster//Event Calendar 2.0//EN
METHOD:PUBLISH
X-PUBLISHED-TTL:P3D
REFRESH-INTERVAL:P3D
CALSCALE:GREGORIAN
BEGIN:VEVENT
DTSTART:20230202T160000Z
DTEND:20230202T170000Z
X-MICROSOFT-CDO-ALLDAYEVENT:FALSE
SUMMARY:Introduction to CT Small Business Boost Fund
DESCRIPTION:Introduction to CT Small Business Boost Fund Thursday\, February 2\, 2023\, 11 a.m.   12 p.m.\n		\n	\n\n \n\n\n	\n		\n			Many small businesses in Connecticut experience barriers to accessing financial resources. This is especially true for businesses in distressed municipalities and those led by women\, individuals with disabilities\, veterans\, and people of color. The Connecticut Small Business Boost Fund was created to provide access to working capital for those who need it most. Learn about this new opportunity\, get help accessing the funds\, and invest in your success!\n\n			\n\n			Register:  https://bit.ly/3Xs1NPQ\n\n			\n\n			Presenter: Janet Johnson\, MyMoneyPivot
X-ALT-DESC;FMTTYPE=text/html:<table border="1" cellpadding="0" cellspacing="0" style="border-bottom:solid #BFBFBF 1.0pt\; border:none\; width:586px">\n	<tbody>\n		<tr>\n			<td style="vertical-align:bottom"><strong><span style="color:black"><span style="font-family:arial\,sans-serif"><span style="font-size:12.0pt">Introduction to CT Small Business Boost Fund&nbsp\;</span></span></span></strong><span style="color:black"><span style="font-family:arial\,sans-serif"><span style="font-size:9.0pt">Thursday\, February 2\, 2023\, 11&nbsp\;a.m.&nbsp\;&ndash\;&nbsp\;12&nbsp\;p.m.</span></span></span></td>\n		</tr>\n	</tbody>\n</table>\n&nbsp\;\n\n<table border="0" cellpadding="0" cellspacing="0" style="width:624px">\n	<tbody>\n		<tr>\n			<td style="vertical-align:top\; width:624px"><span style="color:black"><span style="font-family:arial\,sans-serif"><span style="font-size:9.0pt">Many small businesses in Connecticut experience barriers to accessing financial resources. This is especially true for businesses in distressed municipalities and those led by women\, individuals with disabilities\, veterans\, and people of color. The Connecticut Small Business Boost Fund was created to provide access to working capital for those who need it most. Learn about this new opportunity\, get help accessing the funds\, and invest in your success!</span></span></span><br />\n			<br />\n			<span style="color:black"><span style="font-family:arial\,sans-serif"><span style="font-size:9.0pt">Register:&nbsp\;&nbsp\;<a href="https://bit.ly/3Xs1NPQ" target="_blank"><span style="color:#CC0000">https://bit.ly/3Xs1NPQ</span></a></span></span></span><br />\n			<br />\n			<span style="color:black"><span style="font-family:arial\,sans-serif"><span style="font-size:9.0pt">Presenter: Janet Johnson\, MyMoneyPivot</span></span></span></td>\n		</tr>\n	</tbody>\n</table>\n
LOCATION:
UID:e.3150.12485
SEQUENCE:3
DTSTAMP:20260425T181310Z
URL:https://business.whchamber.com/events/details/introduction-to-ct-small-business-boost-fund-02-02-2023-12485
END:VEVENT

END:VCALENDAR
