BEGIN:VCALENDAR
VERSION:2.0
PRODID:-//ChamberMaster//Event Calendar 2.0//EN
METHOD:PUBLISH
X-PUBLISHED-TTL:P3D
REFRESH-INTERVAL:P3D
CALSCALE:GREGORIAN
BEGIN:VEVENT
DTSTART:20230405T223000Z
DTEND:20230406T000000Z
X-MICROSOFT-CDO-ALLDAYEVENT:FALSE
SUMMARY:Intro to Playwriting
DESCRIPTION:Always wanted to write a play but didn?t know where to start? Maybe you have some ideas but just don?t know how to set up a scene or build character? Have some scenes already written but want feedback and encouragement to KEEP ON WRITING? This is a class for you! Through a workshop structure\, we will explore writing for the theatre through practice and discussion. We will study major components of playwriting\, including action\, dialogue\, and character! Students will complete and workshop writing assignments\, and encouraged to provide and receive feedback. We may also study the work of contemporary playwrights and have the opportunity to see Playhouse on Park?s production of Indecent. No previous playwriting experience necessary! Budding writers welcomed! The class will conclude with a showcase of selected pieces performed in a Reader?s Theatre format\, to an audience of friends and family. Tuition: $140\, with $15 registration fee WEDNESDAYS Time: 6:30-8:00pm Ages 17 and up Location: 224 Ecospace Dates: Jan 11\, 18\, 25\, Feb 1\, 8\, 15\, March 1\, 8\, 15\, 22\, 29\, April 5
X-ALT-DESC;FMTTYPE=text/html:Always wanted to write a play but didn?t know where to start? Maybe you have some ideas but just don?t know how to set up a scene or build character? Have some scenes already written but want feedback and encouragement to KEEP ON WRITING? This is a class for you! Through a workshop structure\, we will explore writing for the theatre through practice and discussion. We will study major components of playwriting\, including action\, dialogue\, and character! Students will complete and workshop writing assignments\, and encouraged to provide and receive feedback. We may also study the work of contemporary playwrights and have the opportunity to see Playhouse on Park?s production of Indecent. No previous playwriting experience necessary! Budding writers welcomed! The class will conclude with a showcase of selected pieces performed in a Reader?s Theatre format\, to an audience of friends and family. Tuition: $140\, with $15 registration fee WEDNESDAYS Time: 6:30-8:00pm Ages 17 and up Location: 224 Ecospace Dates: Jan 11\, 18\, 25\, Feb 1\, 8\, 15\, March 1\, 8\, 15\, 22\, 29\, April 5
LOCATION:224 Ecospace
UID:e.3150.12451
SEQUENCE:3
DTSTAMP:20260425T151732Z
URL:https://business.whchamber.com/events/details/intro-to-playwriting-04-05-2023-12451
END:VEVENT

END:VCALENDAR
