BEGIN:VCALENDAR
VERSION:2.0
PRODID:-//ChamberMaster//Event Calendar 2.0//EN
METHOD:PUBLISH
X-PUBLISHED-TTL:P3D
REFRESH-INTERVAL:P3D
CALSCALE:GREGORIAN
BEGIN:VEVENT
DTSTART:20240119T190000Z
DTEND:20240119T220000Z
X-MICROSOFT-CDO-ALLDAYEVENT:FALSE
SUMMARY:Intro to MIG Welding at MakerspaceCT
DESCRIPTION:Discover the art of welding in our beginner 3-hour class in Downtown Hartford! This is your chance to delve into MIG welding techniques step-by-step. Our workshops are tailored for newcomers but familiarity with power tools is recommended. For safety\, wear natural fiber clothing\, long pants\, closed-toed leather shoes\, tie back long hair\, and avoid loose clothing. We provide safety gear\, but you can bring your own if you have it. It's highly recommended that you mask up for this workshop! Our small class sizes mean that you'll get individualized attention from our instructor. Once you sign up\, you'll be sent some prerequisite virtual material\, which you must review before attending the workshop.\n\nThe course content includes:\n\n\n	\n	Proper attire and safety\n	\n	\n	Basics of welding\n	\n	\n	Purpose of MIG welding\n	\n	\n	LOTS of hands-on practice\n	\n\n\nPLEASE NOTE! Welding is close\, detailed work. If you need corrective lenses to see close objects\, such as reading glasses or bifocals\, please bring them.\n\n\n\nAbout MakerspaceCT:\n\nThe mission of MakerspaceCT is to positively impact lives by enabling access\, innovation\, and education. Our vision uses 'making' as a vehicle to lift up individuals and communities at the 28\,000-square-foot innovation lab in Downtown Hartford\, Connecticut. A non-profit that opened in 2019\, MakerspaceCT is positioned to bridge the gap between traditional skills and advanced technologies. Classes are offered in metal\, wood and plastic fabrication\, facilitating education in prototype and manufacturing techniques. Students and members can also explore high-tech specialties with access to the latest electronics\, Internet of Things (IoT)\, computer-aided design (CAD)\, 3D printing and CNC-driven machinery. MakerspaceCT has relationships with local manufacturers that are committed to interviewing graduates of our programs.\n\n\n\nWhy should you learn how to weld?\n\n\n\nMIG welding offers numerous advantages for both professionals and hobbyists:\n\n\n\nAdvantages for Professionals:\n\n\n	Efficiency: MIG welding is relatively faster compared to other welding processes. This efficiency can be crucial in industrial settings where time is a significant factor in production.\n	Versatility: Professionals benefit from MIG welding's capability to work with various materials\, thicknesses\, and joint configurations. It's applicable in industries ranging from automotive manufacturing to construction.\n	Quality of Welds: MIG welding often produces high-quality\, clean welds\, which is imperative in industries where structural integrity is paramount.\n	Reduced Cleanup: The process generates minimal spatter and slag\, reducing the need for extensive cleanup after welding\, which saves time and effort.\n	Ease of Use: While skill and practice are necessary\, MIG welding is considered more straightforward to learn and execute compared to some other welding techniques. This allows professionals to train new welders relatively quickly.\n\n\nAdvantages for Hobbyists:\n\n\n	Accessibility: MIG welding is often recommended for beginners due to its ease of use. Hobbyists can quickly learn the basics and start welding on personal projects.\n	Cost-Effectiveness: MIG welding machines are available at various price points\, offering hobbyists the opportunity to invest in equipment suitable for their needs without breaking the bank.\n	Versatility in Projects: Whether it's crafting metal sculptures\, repairing vehicles\, or creating custom furniture\, MIG welding enables hobbyists to work on diverse projects and materials.\n	Quick Setup: MIG welding machines are relatively easy to set up\, allowing hobbyists to spend more time welding and less time preparing equipment.\n	Professional-Level Results: With practice\, hobbyists can achieve welds that are structurally sound and aesthetically pleasing\, giving them a sense of accomplishment and pride in their work.\n\n\nIn summary\, MIG welding offers efficiency\, versatility\, and accessibility\, making it a valuable skill for both professionals and hobbyists in various industries and personal projects.
X-ALT-DESC;FMTTYPE=text/html:<p><span style="background-color:transparent\; color:rgb(0\, 0\, 0)\; font-family:arial\,sans-serif\; font-size:11pt">Discover the art of welding in our beginner 3-hour class in Downtown Hartford! This is your chance to delve into MIG welding techniques step-by-step. Our workshops are tailored for newcomers but familiarity with power tools is recommended. For safety\, wear natural fiber clothing\, long pants\, closed-toed leather shoes\, tie back long hair\, and avoid loose clothing. We provide safety gear\, but you can bring your own if you have it. It&#39\;s highly recommended that you mask up for this workshop! Our small class sizes mean that you&#39\;ll get individualized attention from our instructor. Once you sign up\, you&#39\;ll be sent some prerequisite virtual material\, which you must review before attending the workshop.</span></p>\n\n<p><span style="background-color:transparent\; color:rgb(0\, 0\, 0)\; font-family:arial\,sans-serif\; font-size:11pt">The course content includes:</span></p>\n\n<ul>\n	<li>\n	<p><span style="background-color:transparent\; font-size:11pt">Proper attire and safety</span></p>\n	</li>\n	<li>\n	<p><span style="background-color:transparent\; font-size:11pt">Basics of welding</span></p>\n	</li>\n	<li>\n	<p><span style="background-color:transparent\; font-size:11pt">Purpose of MIG welding</span></p>\n	</li>\n	<li>\n	<p><span style="background-color:transparent\; font-size:11pt">LOTS of hands-on practice</span></p>\n	</li>\n</ul>\n\n<p><span style="background-color:transparent\; color:rgb(0\, 0\, 0)\; font-family:arial\,sans-serif\; font-size:11pt">PLEASE NOTE! Welding is close\, detailed work. If you need corrective lenses to see close objects\, such as reading glasses or bifocals\, please bring them.</span><br />\n<br />\n<strong><span style="color:rgba(0\, 0\, 0\, 0.9)\; font-family:-apple-system\,system-ui\,blinkmacsystemfont\,segoe ui\,roboto\,helvetica neue\,fira sans\,ubuntu\,oxygen\,oxygen sans\,cantarell\,droid sans\,apple color emoji\,segoe ui emoji\,segoe ui emoji\,segoe ui symbol\,lucida grande\,helvetica\,arial\,sans-serif\; font-size:14px">About MakerspaceCT:</span></strong><br />\n<span style="color:rgba(0\, 0\, 0\, 0.9)\; font-family:-apple-system\,system-ui\,blinkmacsystemfont\,segoe ui\,roboto\,helvetica neue\,fira sans\,ubuntu\,oxygen\,oxygen sans\,cantarell\,droid sans\,apple color emoji\,segoe ui emoji\,segoe ui emoji\,segoe ui symbol\,lucida grande\,helvetica\,arial\,sans-serif\; font-size:14px">The mission of MakerspaceCT is to positively impact lives by enabling access\, innovation\, and education. Our vision uses &#39\;making&#39\; as a vehicle to lift up individuals and communities at the 28\,000-square-foot innovation lab in Downtown Hartford\, Connecticut. A non-profit that opened in 2019\, MakerspaceCT is positioned to bridge the gap between traditional skills and advanced technologies. Classes are offered in metal\, wood and plastic fabrication\, facilitating education in prototype and manufacturing techniques. Students and members can also explore high-tech specialties with access to the latest electronics\, Internet of Things (IoT)\, computer-aided design (CAD)\, 3D printing and CNC-driven machinery. MakerspaceCT has relationships with local manufacturers that are committed to interviewing graduates of our programs.</span><br />\n<br />\n<strong><span style="color:rgba(0\, 0\, 0\, 0.9)\; font-family:-apple-system\,system-ui\,blinkmacsystemfont\,segoe ui\,roboto\,helvetica neue\,fira sans\,ubuntu\,oxygen\,oxygen sans\,cantarell\,droid sans\,apple color emoji\,segoe ui emoji\,segoe ui emoji\,segoe ui symbol\,lucida grande\,helvetica\,arial\,sans-serif\; font-size:14px">Why should you learn how to weld?</span></strong><br />\n<br />\n<span style="color:rgba(0\, 0\, 0\, 0.9)\; font-family:-apple-system\,system-ui\,blinkmacsystemfont\,segoe ui\,roboto\,helvetica neue\,fira sans\,ubuntu\,oxygen\,oxygen sans\,cantarell\,droid sans\,apple color emoji\,segoe ui emoji\,segoe ui emoji\,segoe ui symbol\,lucida grande\,helvetica\,arial\,sans-serif\; font-size:14px">MIG welding offers numerous advantages for both professionals and hobbyists:</span><br />\n<br />\n<strong><span style="color:rgba(0\, 0\, 0\, 0.9)\; font-family:-apple-system\,system-ui\,blinkmacsystemfont\,segoe ui\,roboto\,helvetica neue\,fira sans\,ubuntu\,oxygen\,oxygen sans\,cantarell\,droid sans\,apple color emoji\,segoe ui emoji\,segoe ui emoji\,segoe ui symbol\,lucida grande\,helvetica\,arial\,sans-serif\; font-size:14px">Advantages for Professionals:</span></strong></p>\n\n<ol>\n	<li><span style="color:rgba(0\, 0\, 0\, 0.9)\; font-family:-apple-system\,system-ui\,blinkmacsystemfont\,segoe ui\,roboto\,helvetica neue\,fira sans\,ubuntu\,oxygen\,oxygen sans\,cantarell\,droid sans\,apple color emoji\,segoe ui emoji\,segoe ui emoji\,segoe ui symbol\,lucida grande\,helvetica\,arial\,sans-serif\; font-size:14px">Efficiency: MIG welding is relatively faster compared to other welding processes. This efficiency can be crucial in industrial settings where time is a significant factor in production.</span></li>\n	<li><span style="color:rgba(0\, 0\, 0\, 0.9)\; font-family:-apple-system\,system-ui\,blinkmacsystemfont\,segoe ui\,roboto\,helvetica neue\,fira sans\,ubuntu\,oxygen\,oxygen sans\,cantarell\,droid sans\,apple color emoji\,segoe ui emoji\,segoe ui emoji\,segoe ui symbol\,lucida grande\,helvetica\,arial\,sans-serif\; font-size:14px">Versatility: Professionals benefit from MIG welding&#39\;s capability to work with various materials\, thicknesses\, and joint configurations. It&#39\;s applicable in industries ranging from automotive manufacturing to construction.</span></li>\n	<li><span style="color:rgba(0\, 0\, 0\, 0.9)\; font-family:-apple-system\,system-ui\,blinkmacsystemfont\,segoe ui\,roboto\,helvetica neue\,fira sans\,ubuntu\,oxygen\,oxygen sans\,cantarell\,droid sans\,apple color emoji\,segoe ui emoji\,segoe ui emoji\,segoe ui symbol\,lucida grande\,helvetica\,arial\,sans-serif\; font-size:14px">Quality of Welds: MIG welding often produces high-quality\, clean welds\, which is imperative in industries where structural integrity is paramount.</span></li>\n	<li><span style="color:rgba(0\, 0\, 0\, 0.9)\; font-family:-apple-system\,system-ui\,blinkmacsystemfont\,segoe ui\,roboto\,helvetica neue\,fira sans\,ubuntu\,oxygen\,oxygen sans\,cantarell\,droid sans\,apple color emoji\,segoe ui emoji\,segoe ui emoji\,segoe ui symbol\,lucida grande\,helvetica\,arial\,sans-serif\; font-size:14px">Reduced Cleanup: The process generates minimal spatter and slag\, reducing the need for extensive cleanup after welding\, which saves time and effort.</span></li>\n	<li><span style="color:rgba(0\, 0\, 0\, 0.9)\; font-family:-apple-system\,system-ui\,blinkmacsystemfont\,segoe ui\,roboto\,helvetica neue\,fira sans\,ubuntu\,oxygen\,oxygen sans\,cantarell\,droid sans\,apple color emoji\,segoe ui emoji\,segoe ui emoji\,segoe ui symbol\,lucida grande\,helvetica\,arial\,sans-serif\; font-size:14px">Ease of Use: While skill and practice are necessary\, MIG welding is considered more straightforward to learn and execute compared to some other welding techniques. This allows professionals to train new welders relatively quickly.</span></li>\n</ol>\n\n<p><strong><span style="color:rgba(0\, 0\, 0\, 0.9)\; font-family:-apple-system\,system-ui\,blinkmacsystemfont\,segoe ui\,roboto\,helvetica neue\,fira sans\,ubuntu\,oxygen\,oxygen sans\,cantarell\,droid sans\,apple color emoji\,segoe ui emoji\,segoe ui emoji\,segoe ui symbol\,lucida grande\,helvetica\,arial\,sans-serif\; font-size:14px">Advantages for Hobbyists:</span></strong></p>\n\n<ol>\n	<li><span style="color:rgba(0\, 0\, 0\, 0.9)\; font-family:-apple-system\,system-ui\,blinkmacsystemfont\,segoe ui\,roboto\,helvetica neue\,fira sans\,ubuntu\,oxygen\,oxygen sans\,cantarell\,droid sans\,apple color emoji\,segoe ui emoji\,segoe ui emoji\,segoe ui symbol\,lucida grande\,helvetica\,arial\,sans-serif\; font-size:14px">Accessibility: MIG welding is often recommended for beginners due to its ease of use. Hobbyists can quickly learn the basics and start welding on personal projects.</span></li>\n	<li><span style="color:rgba(0\, 0\, 0\, 0.9)\; font-family:-apple-system\,system-ui\,blinkmacsystemfont\,segoe ui\,roboto\,helvetica neue\,fira sans\,ubuntu\,oxygen\,oxygen sans\,cantarell\,droid sans\,apple color emoji\,segoe ui emoji\,segoe ui emoji\,segoe ui symbol\,lucida grande\,helvetica\,arial\,sans-serif\; font-size:14px">Cost-Effectiveness: MIG welding machines are available at various price points\, offering hobbyists the opportunity to invest in equipment suitable for their needs without breaking the bank.</span></li>\n	<li><span style="color:rgba(0\, 0\, 0\, 0.9)\; font-family:-apple-system\,system-ui\,blinkmacsystemfont\,segoe ui\,roboto\,helvetica neue\,fira sans\,ubuntu\,oxygen\,oxygen sans\,cantarell\,droid sans\,apple color emoji\,segoe ui emoji\,segoe ui emoji\,segoe ui symbol\,lucida grande\,helvetica\,arial\,sans-serif\; font-size:14px">Versatility in Projects: Whether it&#39\;s crafting metal sculptures\, repairing vehicles\, or creating custom furniture\, MIG welding enables hobbyists to work on diverse projects and materials.</span></li>\n	<li><span style="color:rgba(0\, 0\, 0\, 0.9)\; font-family:-apple-system\,system-ui\,blinkmacsystemfont\,segoe ui\,roboto\,helvetica neue\,fira sans\,ubuntu\,oxygen\,oxygen sans\,cantarell\,droid sans\,apple color emoji\,segoe ui emoji\,segoe ui emoji\,segoe ui symbol\,lucida grande\,helvetica\,arial\,sans-serif\; font-size:14px">Quick Setup: MIG welding machines are relatively easy to set up\, allowing hobbyists to spend more time welding and less time preparing equipment.</span></li>\n	<li><span style="color:rgba(0\, 0\, 0\, 0.9)\; font-family:-apple-system\,system-ui\,blinkmacsystemfont\,segoe ui\,roboto\,helvetica neue\,fira sans\,ubuntu\,oxygen\,oxygen sans\,cantarell\,droid sans\,apple color emoji\,segoe ui emoji\,segoe ui emoji\,segoe ui symbol\,lucida grande\,helvetica\,arial\,sans-serif\; font-size:14px">Professional-Level Results: With practice\, hobbyists can achieve welds that are structurally sound and aesthetically pleasing\, giving them a sense of accomplishment and pride in their work.</span></li>\n</ol>\n\n<p><span style="color:rgba(0\, 0\, 0\, 0.9)\; font-family:-apple-system\,system-ui\,blinkmacsystemfont\,segoe ui\,roboto\,helvetica neue\,fira sans\,ubuntu\,oxygen\,oxygen sans\,cantarell\,droid sans\,apple color emoji\,segoe ui emoji\,segoe ui emoji\,segoe ui symbol\,lucida grande\,helvetica\,arial\,sans-serif\; font-size:14px">In summary\, MIG welding offers efficiency\, versatility\, and accessibility\, making it a valuable skill for both professionals and hobbyists in various industries and personal projects.</span></p>\n
LOCATION:36 Talcott Street\, Hartford CT 06103
UID:e.3150.12726
SEQUENCE:3
DTSTAMP:20260425T030845Z
URL:https://business.whchamber.com/events/details/intro-to-mig-welding-with-mairead-12726
END:VEVENT

END:VCALENDAR
