BEGIN:VCALENDAR
VERSION:2.0
PRODID:-//ChamberMaster//Event Calendar 2.0//EN
METHOD:PUBLISH
X-PUBLISHED-TTL:P3D
REFRESH-INTERVAL:P3D
CALSCALE:GREGORIAN
BEGIN:VEVENT
DTSTART:20220302T170000Z
DTEND:20220302T180000Z
X-MICROSOFT-CDO-ALLDAYEVENT:FALSE
SUMMARY:International Women’s Day: Combating Violence Against Women
DESCRIPTION:The Women's Leadership Center at the University of Saint Joseph is pleased to present the 2021-2022 season\, "Advancing Your Career in a Complex World\," sponsored by and held in collaboration with The Hartford.\n\nOur next event\, we are delighted to partner with the World Affairs Council of CT and Interval House on the following:\n\nInternational Women's Day: Combating Violence Against Women\n\nJoin us on Wednesday\, March 2 at 12 p.m. ET for this virtual program in recognition of International Women's Day to learn more about combatting violence against women featuring Reem Alsalem\, United Nations Special Rapporteur on violence against women\, its causes and consequences. This important event represents an ongoing collaboration between the Women's Leadership Center at the University of Saint Joseph and the World Affairs Council of Connecticut.\n\nThis event was made possible by the generous support of The Hartford.\n\nThe discussion is free to attend\, but registration is required.\n\nRegistration: https://www.eventbrite.com/e/international-womens-day-combatting-violence-against-women-tickets-244572632327
X-ALT-DESC;FMTTYPE=text/html:<p>The Women&rsquo\;s Leadership Center at the University of Saint Joseph is pleased to present the 2021-2022 season\,&nbsp\;<strong>&ldquo\;Advancing Your Career in a Complex World\,&rdquo\;</strong>&nbsp\;sponsored by and held in collaboration with&nbsp\;<strong>The Hartford</strong>.</p>\n\n<p>Our next event\, we are delighted to partner with the&nbsp\;<strong>World Affairs Council of CT</strong>&nbsp\;and&nbsp\;<strong>Interval House</strong>&nbsp\;on the following:</p>\n\n<p><strong>International Women&rsquo\;s Day: Combating Violence Against Women</strong></p>\n\n<p>Join us on&nbsp\;<strong>Wednesday\, March 2 at 12 p.m. ET&nbsp\;</strong>for this virtual program in recognition of International Women&rsquo\;s Day to learn more about combatting violence against women featuring&nbsp\;<strong>Reem Alsalem</strong>\, United Nations Special Rapporteur on violence against women\, its causes and consequences. This important event represents an ongoing collaboration between the Women&rsquo\;s Leadership Center at the University of Saint Joseph and the World Affairs Council of Connecticut.</p>\n\n<p><em>This event was made possible by the generous support of The Hartford.</em></p>\n\n<p><strong>The discussion is free to attend\, but registration is required.</strong></p>\n\n<p>Registration:&nbsp\;<a href="https://www.eventbrite.com/e/international-womens-day-combatting-violence-against-women-tickets-244572632327" rel="noreferrer noopener" style="box-sizing: inherit\; font-family: inherit\; font-size: inherit\; font-style: inherit\; color: rgb(11\, 109\, 183)\; transition: all 200ms ease 0s\;" target="_blank">https://www.eventbrite.com/e/international-womens-day-combatting-violence-against-women-tickets-244572632327</a></p>\n
LOCATION:Virtual Event
UID:e.3150.9329
SEQUENCE:3
DTSTAMP:20260425T221144Z
URL:https://business.whchamber.com/events/details/international-women-s-day-combating-violence-against-women-9329
END:VEVENT

END:VCALENDAR
