BEGIN:VCALENDAR
VERSION:2.0
PRODID:-//ChamberMaster//Event Calendar 2.0//EN
METHOD:PUBLISH
X-PUBLISHED-TTL:P3D
REFRESH-INTERVAL:P3D
CALSCALE:GREGORIAN
BEGIN:VEVENT
DTSTART:20230202T003000Z
DTEND:20230226T210000Z
X-MICROSOFT-CDO-ALLDAYEVENT:FALSE
SUMMARY:Indecent
DESCRIPTION:Pulitzer Prize-winning playwright Paula Vogel tells the explosive and deeply moving story of the controversial 1923 Broadway debut of Jewish playwright Sholem Asch's God of Vengeance a play about a forbidden lesbian romance that enchanted and outraged audiences. We follow the path of the artists who risked their careers in order to perform it. It actively pays tribute to the Yiddish\, immigrant families\, Jews\, theater makers\, and the women\, specifically the queer women\, who are erased from historical narratives. Indecent is a riveting backstage drama filled with music\, groundbreaking theatre\, and stage magic.
X-ALT-DESC;FMTTYPE=text/html:Pulitzer Prize-winning playwright Paula Vogel tells the explosive and deeply moving story of the controversial 1923 Broadway debut of Jewish playwright Sholem Asch&rsquo\;s God of Vengeance&mdash\;a play about a forbidden lesbian romance that enchanted and outraged audiences. We follow the path of the artists who risked their careers in order to perform it. It actively pays tribute to the Yiddish\, immigrant families\, Jews\, theater makers\, and the women\, specifically the queer women\, who are erased from historical narratives. Indecent is a riveting backstage drama filled with music\, groundbreaking theatre\, and stage magic.
LOCATION:Playhouse on Park
UID:e.3150.12489
SEQUENCE:3
DTSTAMP:20260425T181131Z
URL:https://business.whchamber.com/events/details/indecent-12489
END:VEVENT

END:VCALENDAR
