BEGIN:VCALENDAR
VERSION:2.0
PRODID:-//ChamberMaster//Event Calendar 2.0//EN
METHOD:PUBLISH
X-PUBLISHED-TTL:P3D
REFRESH-INTERVAL:P3D
CALSCALE:GREGORIAN
BEGIN:VEVENT
DTSTART:20221109T220000Z
DTEND:20221109T230000Z
X-MICROSOFT-CDO-ALLDAYEVENT:FALSE
SUMMARY:Identifying Talent and Finding the Right Fit for Remote Work
DESCRIPTION:When and where Date and time Wed\, November 9\, 2022\, 5:00 PM   6:00 PM EST Location Online About this event In the post-pandemic workplace\, the remote talent pool has increased exponentially\, as many workers have decided to trade their workspaces for home offices and remain virtual. During this informative session\, we will first explore what it takes to be effective as a remote employee. What skills and work ethic are required to be productive in this space? Following this discussion\, we will address the need to employ creative strategies for identifying talent in the digital age. Join us and share your thoughts through interactions with other professionals in the workplace.
X-ALT-DESC;FMTTYPE=text/html:When and where Date and time Wed\, November 9\, 2022\, 5:00 PM &ndash\; 6:00 PM EST Location Online About this event In the post-pandemic workplace\, the remote talent pool has increased exponentially\, as many workers have decided to trade their workspaces for home offices and remain virtual. During this informative session\, we will first explore what it takes to be effective as a remote employee. What skills and work ethic are required to be productive in this space? Following this discussion\, we will address the need to employ creative strategies for identifying talent in the digital age. Join us and share your thoughts through interactions with other professionals in the workplace.
LOCATION:Online
UID:e.3150.11779
SEQUENCE:3
DTSTAMP:20260425T224241Z
URL:https://business.whchamber.com/events/details/identifying-talent-and-finding-the-right-fit-for-remote-work-11779
END:VEVENT

END:VCALENDAR
