BEGIN:VCALENDAR
VERSION:2.0
PRODID:-//ChamberMaster//Event Calendar 2.0//EN
METHOD:PUBLISH
X-PUBLISHED-TTL:P3D
REFRESH-INTERVAL:P3D
CALSCALE:GREGORIAN
BEGIN:VEVENT
DTSTART:20221207T210000Z
DTEND:20221207T230000Z
X-MICROSOFT-CDO-ALLDAYEVENT:FALSE
SUMMARY:How to Start Your Own Small Business!
DESCRIPTION:How to Start Your Own Small Business - Wednesday\, December 7\, 2022\, 4   6 p.m.\n		\n	\n\n\n\n	\n		\n			\n			As the economic landscape continues to shift\, this is a great time to consider your small business options. Whether you are an aspiring entrepreneur or interested in creating a side gig\, move your ideas into action!  In this workshop\, you will learn how to:\n\n			\n				Navigate governmental regulations\n				Find resources and plan action steps to reach your goal\n				Explore how your experience\, financial resources\, and lifestyle needs affect your business\n				Wednesday\, December 7\; 4-6 pm\n\n				Register:  https://bit.ly/3SQekKX\n\n				Presenters: Lacey Banks\, EC-WBC Business Advisor & Janet Johnson\, Small Business Coach
X-ALT-DESC;FMTTYPE=text/html:<table border="0" cellpadding="0" cellspacing="0">\n	<tbody>\n		<tr>\n			<td>How to Start Your Own Small Business - Wednesday\, December 7\, 2022\, 4&nbsp\;&ndash\;&nbsp\;6&nbsp\;p.m.</td>\n		</tr>\n	</tbody>\n</table>\n\n<table border="0" cellpadding="0" cellspacing="0">\n	<tbody>\n		<tr>\n			<td>\n			<p>As the economic landscape continues to shift\, this is a great time to consider your small business options. Whether you are an aspiring entrepreneur or interested in creating a side gig\, move your ideas into action!&nbsp\; In this workshop\, you will learn how to:</p>\n\n			<ul>\n				<li>Navigate governmental regulations</li>\n				<li>Find resources and plan action steps to reach your goal</li>\n				<li>Explore how your experience\, financial resources\, and lifestyle needs affect your business\n				<p>Wednesday\, December 7\; 4-6 pm</p>\n\n				<p>Register:&nbsp\;&nbsp\;<a href="https://bit.ly/3SQekKX" rel="noopener" target="_blank">https://bit.ly/3SQekKX</a></p>\n\n				<p>Presenters: Lacey Banks\, EC-WBC Business Advisor&nbsp\;&amp\; Janet Johnson\, Small Business Coach&nbsp\; &nbsp\;&nbsp\;</p>\n				</li>\n			</ul>\n			</td>\n		</tr>\n	</tbody>\n</table>\n
LOCATION:
UID:e.3150.12425
SEQUENCE:3
DTSTAMP:20260425T211139Z
URL:https://business.whchamber.com/events/details/how-to-start-your-own-small-business-12425
END:VEVENT

END:VCALENDAR
