BEGIN:VCALENDAR
VERSION:2.0
PRODID:-//ChamberMaster//Event Calendar 2.0//EN
METHOD:PUBLISH
X-PUBLISHED-TTL:P3D
REFRESH-INTERVAL:P3D
CALSCALE:GREGORIAN
BEGIN:VEVENT
DTSTART:20230111T210000Z
DTEND:20230111T230000Z
X-MICROSOFT-CDO-ALLDAYEVENT:FALSE
SUMMARY:How to Start Your Own Small Business!
DESCRIPTION:How to Start Your Own Small Business Wednesday\, January 11\, 2023\, 4   6 p.m.\n					\n				\n			\n\n			\n				\n					\n						\n						As the economic landscape continues to shift\, this is a great time to consider your small business options. Whether you are an aspiring entrepreneur or interested in creating a side gig\, move your ideas into action!  In this workshop\, you will learn how to:\n\n						\n							Navigate governmental regulations\n							Find resources and plan action steps to reach your goal\n							Explore how your experience\, financial resources\, and lifestyle needs affect your business options\n						\n\n						Register:  https://bit.ly/3UEdJfi\n\n						Presenter: Janet Johnson\, MyMoneyPivot
X-ALT-DESC;FMTTYPE=text/html:<div>&nbsp\;</div>\n\n<div>\n<table border="0" cellpadding="0" cellspacing="0" style="background-color:rgb(255\, 255\, 255)\; border-collapse:collapse\; color:rgb(34\, 34\, 34)\; font-family:lato\,helvetica neue\,helvetica\,arial\,sans-serif\; font-size:16px\; text-size-adjust:100%">\n	<tbody>\n		<tr>\n			<td>\n			<table border="0" cellpadding="0" cellspacing="0" style="border-collapse:collapse\; text-size-adjust:100%">\n				<tbody>\n					<tr>\n						<td>How to Start Your Own Small Business Wednesday\, January 11\, 2023\, 4&nbsp\;&ndash\;&nbsp\;6&nbsp\;p.m.</td>\n					</tr>\n				</tbody>\n			</table>\n\n			<table border="0" cellpadding="0" cellspacing="0" style="border-collapse:collapse\; text-size-adjust:100%">\n				<tbody>\n					<tr>\n						<td>\n						<p>As the economic landscape continues to shift\, this is a great time to consider your small business options. Whether you are an aspiring entrepreneur or interested in creating a side gig\, move your ideas into action!&nbsp\; In this workshop\, you will learn how to:</p>\n\n						<ul>\n							<li>Navigate governmental regulations</li>\n							<li>Find resources and plan action steps to reach your goal</li>\n							<li>Explore how your experience\, financial resources\, and lifestyle needs affect your business options</li>\n						</ul>\n\n						<p>Register:&nbsp\;&nbsp\;<a href="https://bit.ly/3UEdJfi" rel="noopener" style="text-size-adjust: 100%\; color: rgb(0\, 124\, 137)\;" target="_blank">https://bit.ly/3UEdJfi</a></p>\n\n						<p>Presenter: Janet Johnson\, MyMoneyPivot&nbsp\; &nbsp\;&nbsp\;</p>\n						</td>\n					</tr>\n				</tbody>\n			</table>\n			</td>\n		</tr>\n	</tbody>\n</table>\n</div>\n
LOCATION:
UID:e.3150.12433
SEQUENCE:3
DTSTAMP:20260425T193234Z
URL:https://business.whchamber.com/events/details/how-to-start-your-own-small-business-01-11-2023-12433
END:VEVENT

END:VCALENDAR
