BEGIN:VCALENDAR
VERSION:2.0
PRODID:-//ChamberMaster//Event Calendar 2.0//EN
METHOD:PUBLISH
X-PUBLISHED-TTL:P3D
REFRESH-INTERVAL:P3D
CALSCALE:GREGORIAN
BEGIN:VEVENT
DTSTART:20240319T230000Z
DTEND:20240320T000000Z
X-MICROSOFT-CDO-ALLDAYEVENT:FALSE
SUMMARY:Honoring the Equinox- An Immersive\, Restorative Group Meditation
DESCRIPTION:We will honor the emergence of light and new beginnings together using the power of Reiki\, Guided Meditation and Vibration! This is a community event utilizing Reiki Healing Energy\, Crystal/Tibetan Bowls and sound instruments with gentle guided imagery.\n\nNo experience needed\, just a desire to release into relaxation and peace. Bring a mat or use an available chair.\n\nGina will present Reiki and Guided Meditation which alone is a powerful relaxation tool. By adding in Rio's sound/vibrations\, the room becomes infused with rejuvenating energy\, creating perfect environment to recharge and welcome new beginnings.\n\nThe full session will last an hour though there will be time for questions and comments. Please come 10 minutes early to find your comfortable space and settle in.  \n\n\n\nRegistration is requested so we may accommodate everyone interested.  Please feel free to reach out with any questions about the session or about the process of a group Reiki Session. \n\nParking will be out back\, at the very last building. Drive around until you reach the last parking area. Use the ramp entrance for easy access. You may also come in the front entrance and walk left all the way through to the Awakening Room.
X-ALT-DESC;FMTTYPE=text/html:<p>We will honor the emergence of light and new beginnings together using the power of Reiki\, Guided Meditation and Vibration! This is a community event utilizing Reiki Healing Energy\, Crystal/Tibetan Bowls and sound instruments with gentle guided imagery.</p>\n\n<p>No experience needed\, just a desire to release into relaxation and peace. Bring a mat or use an available chair.</p>\n\n<p>Gina will present Reiki and Guided Meditation which alone is a powerful relaxation tool. By adding in Rio&rsquo\;s sound/vibrations\, the room becomes infused with rejuvenating energy\, creating perfect environment to recharge and welcome new beginnings.</p>\n\n<p>The full session will last an hour though there will be time for questions and comments. Please come 10 minutes early to find your comfortable space and settle in. &nbsp\;<br />\n<br />\nRegistration is requested so we may accommodate everyone interested.&nbsp\; Please feel free to reach out with any questions about the session or about the process of a group Reiki Session.&nbsp\;</p>\n\n<p><strong>Parking will be out back\, at the very last building. Drive around until you reach the last parking area. Use the ramp entrance for easy access. You may also come in the front entrance and walk left all the way through to the Awakening Room.&nbsp\;</strong></p>\n
LOCATION:The Awakening Room at Bridge Healing Arts Center 304 Main Street Farmington CT
UID:e.3150.12950
SEQUENCE:3
DTSTAMP:20260424T222810Z
URL:https://business.whchamber.com/events/details/honoring-the-equinox-12950
END:VEVENT

END:VCALENDAR
