BEGIN:VCALENDAR
VERSION:2.0
PRODID:-//ChamberMaster//Event Calendar 2.0//EN
METHOD:PUBLISH
X-PUBLISHED-TTL:P3D
REFRESH-INTERVAL:P3D
CALSCALE:GREGORIAN
BEGIN:VEVENT
DTSTART:20260321T182000Z
DTEND:20260321T190000Z
X-MICROSOFT-CDO-ALLDAYEVENT:FALSE
SUMMARY:Homeownership Seminar
DESCRIPTION:You're invited to learn how to financially prepare for homeownership: Learning about all the advantages and considerations that go into the home buying process can help you build confidence and prepare you to make the absolute best choice in a home and in a home loan.
X-ALT-DESC;FMTTYPE=text/html:You&rsquo\;re invited to learn how to financially prepare for homeownership: Learning about all the advantages and considerations that go into the home buying process can help you build confidence and prepare you to make the absolute best choice in a home and in a home loan.
LOCATION:Bank of America 4 North Main Street West Hartford\, CT 06107
UID:e.3150.17074
SEQUENCE:3
DTSTAMP:20260425T143317Z
URL:https://business.whchamber.com/events/details/homeownership-seminar-17074
END:VEVENT

END:VCALENDAR
