BEGIN:VCALENDAR
VERSION:2.0
PRODID:-//ChamberMaster//Event Calendar 2.0//EN
METHOD:PUBLISH
X-PUBLISHED-TTL:P3D
REFRESH-INTERVAL:P3D
CALSCALE:GREGORIAN
BEGIN:VEVENT
DTSTART:20221204T160000Z
DTEND:20221204T190000Z
X-MICROSOFT-CDO-ALLDAYEVENT:FALSE
SUMMARY:Holidays & Horses at Farmington Polo Club
DESCRIPTION:Join us for Holidays and Horses \n\nSunday\, December 4\, 2022 from 11:00 AM - 2:00 PM\n\nPhotos with Santa   Horse & Carriage Rides   Food Trucks & Seasonal Spirits   Vendors\n\nDJ   Toy Drive by The New England Super Car Club & The Hometown Foundation\, Inc.\n\nAdmission: $10 Per Car / Purchase tickets in advance or at the gate
X-ALT-DESC;FMTTYPE=text/html:<h2 style="text-align:center">Join us for Holidays and Horses&nbsp\;</h2>\n\n<p style="text-align:center"><strong><span style="font-size:16px">Sunday\, December 4\, 2022 from 11:00 AM - 2:00 PM</span></strong></p>\n\n<h2 style="text-align:center"><span style="font-size:16px"><span style="color:#000000">Photos with Santa &bull\; Horse &amp\; Carriage Rides &bull\; Food Trucks &amp\; Seasonal Spirits &bull\; Vendors<br />\nDJ &bull\; Toy Drive by&nbsp\;The New England Super Car Club &amp\; The Hometown Foundation\, Inc.</span></span></h2>\n\n<h2 style="text-align:center"><span style="font-size:16px"><span style="color:#000000"><strong>Admission: $10 Per Car /&nbsp\;</strong><strong>Purchase tickets in advance or at the gate&nbsp\;</strong></span></span></h2>\n
LOCATION:152 Town Farm Road Farmington\, CT 06032
UID:e.3150.11776
SEQUENCE:3
DTSTAMP:20260425T224229Z
URL:https://business.whchamber.com/events/details/holidays-horses-11776
END:VEVENT

END:VCALENDAR
