BEGIN:VCALENDAR
VERSION:2.0
PRODID:-//ChamberMaster//Event Calendar 2.0//EN
METHOD:PUBLISH
X-PUBLISHED-TTL:P3D
REFRESH-INTERVAL:P3D
CALSCALE:GREGORIAN
BEGIN:VEVENT
DTSTART:20220302T160000Z
DTEND:20220302T170000Z
X-MICROSOFT-CDO-ALLDAYEVENT:FALSE
SUMMARY:Hemispheric Principles: Viewing the Environment Through Music
DESCRIPTION:Hemispheric Principles: Viewing the Environment Through Music\n\nMarch 2\, 2022 | 11 a.m.   12 p.m.\n\nIN-PERSON PRESENTATION | Location: Crystal Room   Mercy Hall\n\nPresenter: Lee Mixashawn Rozie\n\n\n\nThis event is free and open to the public\, but registration is required https://www.eventbrite.com/e/hemispheric-principles-tickets-253596402667\n\n\n\nLee Mixashawn Rozie has been a practicing multi-disciplinary and internationally acclaimed Jazz artist for the past three decades. Mr. Rozie holds a degree in History and Ethnomusicology from Trinity College and is equally at home in academic and cultural settings. Beginning from the point of Indigenous artist\, using ancient cultural principles\, maritime arts\, and historical data\, both written and oral\, he has developed a system of "Hemispheric Principles" to inform and guide his artform\, more directly referred to as "Wave Art": sonic\, aquatic percussive and harmonic. Mixashawn offers musical performance and educational workshops on Indigenous music traditional and contemporary\, as well as original\, workshops that utilize his extensive experience as a performer\, Indigenous artist\, and educator to inspire creativity and natural expression for all ages.
X-ALT-DESC;FMTTYPE=text/html:<h3><strong>Hemispheric Principles:&nbsp\;<em>Viewing the Environment Through Music</em></strong></h3>\n\n<p><strong>March 2\, 2022 | 11 a.m. &ndash\; 12 p.m.</strong></p>\n\n<p><strong>IN-PERSON PRESENTATION | Location: Crystal Room &ndash\; Mercy Hall</strong><br />\n<strong>Presenter: Lee Mixashawn Rozie<br />\n<br />\nThis event is free and open to the public\, but registration is required&nbsp\;</strong><a href="https://www.eventbrite.com/e/hemispheric-principles-tickets-253596402667">https://www.eventbrite.com/e/hemispheric-principles-tickets-253596402667</a><br />\n<br />\n<span style="font-family:interstate\,sans-serif\; font-size:16px">Lee Mixashawn Rozie has been a practicing multi-disciplinary and internationally acclaimed Jazz artist for the past three decades. Mr. Rozie holds a degree in History and Ethnomusicology from Trinity College and is equally at home in academic and cultural settings. Beginning from the point of Indigenous artist\, using ancient cultural principles\, maritime arts\, and historical data\, both written and oral\, he has developed a system of &ldquo\;Hemispheric Principles&rdquo\; to inform and guide his artform\, more directly referred to as &ldquo\;Wave Art&rdquo\;: sonic\, aquatic percussive and harmonic. Mixashawn offers musical performance and educational workshops on Indigenous music traditional and contemporary\, as well as original\, workshops that utilize his extensive experience as a performer\, Indigenous artist\, and educator to inspire creativity and natural expression for all ages.</span></p>\n
LOCATION:University of Saint Joseph IN-PERSON PRESENTATION | Location: Crystal Room Mercy Hall
UID:e.3150.9330
SEQUENCE:3
DTSTAMP:20260425T220859Z
URL:https://business.whchamber.com/events/details/hemispheric-principles-viewing-the-environment-through-music-9330
END:VEVENT

END:VCALENDAR
