BEGIN:VCALENDAR
VERSION:2.0
PRODID:-//ChamberMaster//Event Calendar 2.0//EN
METHOD:PUBLISH
X-PUBLISHED-TTL:P3D
REFRESH-INTERVAL:P3D
CALSCALE:GREGORIAN
BEGIN:VEVENT
DTSTART:20241130T183000Z
DTEND:20241130T210000Z
X-MICROSOFT-CDO-ALLDAYEVENT:FALSE
SUMMARY:Hearth Cooking | Life on the Webster Farm: Work Days
DESCRIPTION:Visit the Noah Webster House & West Hartford Historical Society on Saturday\, November 30 from 1:30pm - 3:30pm to enjoy live demonstrations from our experienced team of museum educators. Each demonstration will focus on a unique aspect of early American work and play.\n\nTry your hand at cooking meals over the open flame in our 18th-century reproduction fireplace! Our museum teachers will discuss how the Webster family prepared meals\, where the ingredients came from  and tools that were used in cooking and baking.\n\nThis program is included in museum admission. Enjoy FREE general admission for children under 12 for this event!\n\nFor more information\, please email events@noahwebsterhouse.org or visit www.noahwebsterhouse.org/work-days.\n\nThank you to our 2023-2024 Sponsor\, the Rotary Club of West Hartford!
X-ALT-DESC;FMTTYPE=text/html:<p><span style="background-color:transparent\; color:rgb(68\, 68\, 68)\; font-family:arial\,sans-serif\; font-size:12pt">Visit the Noah Webster House &amp\; West Hartford Historical Society on Saturday\, November 30 from 1:30pm - 3:30pm to enjoy live demonstrations from our experienced team of museum educators. Each demonstration will focus on a unique aspect of early American work and play.</span></p>\n\n<p><span style="color:rgb(68\, 68\, 68)\; font-family:arial\,sans-serif\; font-size:12pt">Try your hand at cooking meals over the open flame in our 18th-century reproduction fireplace! Our museum teachers will discuss how the Webster family prepared meals\, where the ingredients came from&hellip\; and tools that were used in cooking and baking.</span></p>\n\n<p><span style="background-color:transparent\; color:rgb(68\, 68\, 68)\; font-family:arial\,sans-serif\; font-size:12pt">This program is included in museum admission. Enjoy </span><strong>FREE</strong><span style="background-color:transparent\; color:rgb(68\, 68\, 68)\; font-family:arial\,sans-serif\; font-size:12pt"> general admission for children under 12 for this event!</span></p>\n\n<p><span style="background-color:transparent\; color:rgb(68\, 68\, 68)\; font-family:arial\,sans-serif\; font-size:12pt">For more information\, please email events@noahwebsterhouse.org or visit</span><a href="https://noahwebsterhouse.org/work-days/" style="text-decoration-line: none\;"><span style="background-color:transparent\; color:rgb(68\, 68\, 68)\; font-family:arial\,sans-serif\; font-size:12pt"> </span><span style="background-color:transparent\; color:rgb(17\, 85\, 204)\; font-family:arial\,sans-serif\; font-size:12pt">www.noahwebsterhouse.org/work-days</span></a><span style="background-color:transparent\; color:rgb(68\, 68\, 68)\; font-family:arial\,sans-serif\; font-size:12pt">.</span></p>\n\n<p><span style="background-color:transparent\; color:rgb(68\, 68\, 68)\; font-family:arial\,sans-serif\; font-size:12pt">Thank you to our 2023-2024 Sponsor\, the Rotary Club of West Hartford!</span></p>\n\n<div>&nbsp\;</div>\n
LOCATION:Noah Webster House & West Hartford Historical Society 227 South Main Street\, West Hartford\, CT\, 06107
UID:e.3150.15726
SEQUENCE:3
DTSTAMP:20260424T123257Z
URL:https://business.whchamber.com/events/details/hearth-cooking-life-on-the-webster-farm-work-days-15726
END:VEVENT

END:VCALENDAR
