BEGIN:VCALENDAR
VERSION:2.0
PRODID:-//ChamberMaster//Event Calendar 2.0//EN
METHOD:PUBLISH
X-PUBLISHED-TTL:P3D
REFRESH-INTERVAL:P3D
CALSCALE:GREGORIAN
BEGIN:VEVENT
DTSTART:20250128T233000Z
DTEND:20250129T023000Z
X-MICROSOFT-CDO-ALLDAYEVENT:FALSE
SUMMARY:Hartford Jewish Film Fest - Unspoken
DESCRIPTION:Phyllis Hoffman Hartford Jewish Film Fest Presents: Unspoken When Noam Stein\, a closeted\, religious teenager finds a love letter from before the Holocaust - written to his grandfather by another man - he discovers that he might not be alone. With the help of his high-school crush\, Noam sets out to find the mysterious author of the letter and uncover both his grandfather's identity as well as his own. "Reel Talk" following film: Nathan Schachter\, NEJA graduate & The Jewish Agency for Israel\; Ann Pava\, Micah Philanthropies\; Miryam Kabakov\, Eshel\; Rabbi Yitzchok Adler\, Beth David Synagogue Sponsored by Ellen Jeanne Goldfarb Memorial Fund\, JTConnect\, Eshel\, PASI and Unitarian Society of Hartford
X-ALT-DESC;FMTTYPE=text/html:Phyllis Hoffman Hartford Jewish Film Fest Presents: Unspoken When Noam Stein\, a closeted\, religious teenager finds a love letter from before the Holocaust - written to his grandfather by another man - he discovers that he might not be alone. With the help of his high-school crush\, Noam sets out to find the mysterious author of the letter and uncover both his grandfather&rsquo\;s identity as well as his own. &ldquo\;Reel Talk&rdquo\; following film: Nathan Schachter\, NEJA graduate &amp\; The Jewish Agency for Israel\; Ann Pava\, Micah Philanthropies\; Miryam Kabakov\, Eshel\; Rabbi Yitzchok Adler\, Beth David Synagogue Sponsored by Ellen Jeanne Goldfarb Memorial Fund\, JTConnect\, Eshel\, PASI and Unitarian Society of Hartford
LOCATION:Mandell JCC 335 Bloomfield Avenue West Hartford\, CT 06117
UID:e.3150.15817
SEQUENCE:3
DTSTAMP:20260424T054953Z
URL:https://business.whchamber.com/events/details/hartford-jewish-film-fest-unspoken-15817
END:VEVENT

END:VCALENDAR
