BEGIN:VCALENDAR
VERSION:2.0
PRODID:-//ChamberMaster//Event Calendar 2.0//EN
METHOD:PUBLISH
X-PUBLISHED-TTL:P3D
REFRESH-INTERVAL:P3D
CALSCALE:GREGORIAN
BEGIN:VEVENT
DTSTART:20250209T003000Z
DTEND:20250209T023000Z
X-MICROSOFT-CDO-ALLDAYEVENT:FALSE
SUMMARY:Hartford Jewish Film Fest - Bad Shabbos
DESCRIPTION:Phyllis Hoffman Hartford Jewish Film Fest Presents: Bad Shabbos When two couples\, Abby and Benjamin\, and David and recently-converted-to-Judaism Meg\, return home for Shabbat dinner\, an unexpected shadow looms over their night   an accidental death (or is it murder?) threatens to unravel the whole evening. Over the course of one night during this anything-but-typical New York City shabbos\, their family get-together takes a turn for the worse Bad Shabbos takes the one-night-in-New-York story and spins from it a cast of characters\, each more hilarious and specific than the next. Kyra Sedgwick kills (not literally) as the neurotic matriarch\, and unexpected performances by Method Man\, Catherine Curtin\, and other familiar faces forge a brilliant ensemble that hits on pure comedic gold. Sponsored by Hoffman Auto Group\, Solinsky Eye Care\, JNext
X-ALT-DESC;FMTTYPE=text/html:Phyllis Hoffman Hartford Jewish Film Fest Presents: Bad Shabbos When two couples\, Abby and Benjamin\, and David and recently-converted-to-Judaism Meg\, return home for Shabbat dinner\, an unexpected shadow looms over their night &mdash\; an accidental death (or is it murder?) threatens to unravel the whole evening. Over the course of one night during this anything-but-typical New York City shabbos\, their family get-together takes a turn for the worse&hellip\;Bad Shabbos takes the one-night-in-New-York story and spins from it a cast of characters\, each more hilarious and specific than the next. Kyra Sedgwick kills (not literally) as the neurotic matriarch\, and unexpected performances by Method Man\, Catherine Curtin\, and other familiar faces forge a brilliant ensemble that hits on pure comedic gold. Sponsored by Hoffman Auto Group\, Solinsky Eye Care\, JNext
LOCATION:Mandell JCC 335 Bloomfield Avenue West Hartford\, CT 06117
UID:e.3150.15821
SEQUENCE:3
DTSTAMP:20260424T025556Z
URL:https://business.whchamber.com/events/details/hartford-jewish-film-fest-bad-shabbos-15821
END:VEVENT

END:VCALENDAR
