BEGIN:VCALENDAR
VERSION:2.0
PRODID:-//ChamberMaster//Event Calendar 2.0//EN
METHOD:PUBLISH
X-PUBLISHED-TTL:P3D
REFRESH-INTERVAL:P3D
CALSCALE:GREGORIAN
BEGIN:VEVENT
DTSTART:20250119T200000Z
DTEND:20250119T230000Z
X-MICROSOFT-CDO-ALLDAYEVENT:FALSE
SUMMARY:Hartford Jewish Film Fest - Ain’t No Back to a Merry-Go-Round
DESCRIPTION:Phyllis Hoffman Hartford Jewish Film Fest Presents: Ain't No Back to a Merry-Go-Round When five Howard University students sat on a segregated Maryland carousel in 1960\, the arrests made headlines. When the largely Jewish community near Glen Echo Amusement Park joined the Black students in picketing\, the first organized interracial civil rights protest in US history was born. The pickets attracted Nazis\, Congressmen\, and a press avalanche. Picketing together for these unlikely allies led to partying together\, and union organizers mentored student activists. Ten 1961 Freedom Riders\, including Stokely Carmichael\, were incubated on the Glen Echo picket line\, and the carousel arrests were challenged in a Supreme Court case. With never-before seen footage\, and immersive storytelling by Emmy-award winning director Ilana Trachtman\, four living protesters rescue this untold story\, revealing the price\, and the power\, of heeding the impulse to activism. Acclaimed actors Jeffrey Wright\, Mandy Patinkin\, voice the Black and mainstream presses\, respectively\, with additional voiceover by Bob Balaban\, Lee Grant\, Peter Gallagher\, Dominique Thorne\, Alysia Reiner and Tracie Thoms. "Reel Talk" following film Sponsored by Solinsky Eye Care\, Veterinary Emergency Center and Jewish Federation of Greater Hartford
X-ALT-DESC;FMTTYPE=text/html:Phyllis Hoffman Hartford Jewish Film Fest Presents: Ain&rsquo\;t No Back to a Merry-Go-Round When five Howard University students sat on a segregated Maryland carousel in 1960\, the arrests made headlines. When the largely Jewish community near Glen Echo Amusement Park joined the Black students in picketing\, the first organized interracial civil rights protest in US history was born. The pickets attracted Nazis\, Congressmen\, and a press avalanche. Picketing together for these unlikely allies led to partying together\, and union organizers mentored student activists. Ten 1961 Freedom Riders\, including Stokely Carmichael\, were incubated on the Glen Echo picket line\, and the carousel arrests were challenged in a Supreme Court case. With never-before seen footage\, and immersive storytelling by Emmy-award winning director Ilana Trachtman\, four living protesters rescue this untold story\, revealing the price\, and the power\, of heeding the impulse to activism. Acclaimed actors Jeffrey Wright\, Mandy Patinkin\, voice the Black and mainstream presses\, respectively\, with additional voiceover by Bob Balaban\, Lee Grant\, Peter Gallagher\, Dominique Thorne\, Alysia Reiner and Tracie Thoms. &ldquo\;Reel Talk&rdquo\; following film Sponsored by Solinsky Eye Care\, Veterinary Emergency Center and Jewish Federation of Greater Hartford
LOCATION:Mandell JCC 335 Bloomfield Avenue West Hartford\, CT 06117
UID:e.3150.15815
SEQUENCE:3
DTSTAMP:20260424T055640Z
URL:https://business.whchamber.com/events/details/hartford-jewish-film-fest-ain-t-no-back-to-a-merry-go-round-15815
END:VEVENT

END:VCALENDAR
