BEGIN:VCALENDAR
VERSION:2.0
PRODID:-//ChamberMaster//Event Calendar 2.0//EN
METHOD:PUBLISH
X-PUBLISHED-TTL:P3D
REFRESH-INTERVAL:P3D
CALSCALE:GREGORIAN
BEGIN:VEVENT
DTSTART;VALUE=DATE:20220324
DTEND;VALUE=DATE:20220411
TRANSP:TRANSPARENT
X-MICROSOFT-CDO-ALLDAYEVENT:TRUE
SUMMARY:Hartford Jewish Film Fest
DESCRIPTION:Join us for the 26th annual Hartford Jewish Film Festival! In-person at the Mandell JCC or streamed from the comfort of your home! 22 films - 7 countries - 18 days at one JCC and thousands of homes... See you at the MOVIES!
X-ALT-DESC;FMTTYPE=text/html:Join us for the 26th annual Hartford Jewish Film Festival! In-person at the Mandell JCC or streamed from the comfort of your home! 22 films - 7 countries - 18 days at one JCC and thousands of homes... See you at the MOVIES!
LOCATION:Mandell JCC and streaming from the comfort of your home
UID:e.3150.9328
SEQUENCE:3
DTSTAMP:20260425T234111Z
URL:https://business.whchamber.com/events/details/hartford-jewish-film-fest-03-24-2022-9328
END:VEVENT

END:VCALENDAR
