BEGIN:VCALENDAR
VERSION:2.0
PRODID:-//ChamberMaster//Event Calendar 2.0//EN
METHOD:PUBLISH
X-PUBLISHED-TTL:P3D
REFRESH-INTERVAL:P3D
CALSCALE:GREGORIAN
BEGIN:VEVENT
DTSTART:20211122T000000Z
DTEND:20211122T020000Z
X-MICROSOFT-CDO-ALLDAYEVENT:FALSE
SUMMARY:Guy Mintus Trio - "A Gershwin Playground"
DESCRIPTION:Sensational Israeli jazz pianist Guy Mintus performs an entire album of music dedicated to George Gershwin. Mintus injects his trademark high-voltage energy\, including rapid-fire piano fills and a pulsating jazz beat\, to what's normally a placid lullaby.
X-ALT-DESC;FMTTYPE=text/html:Sensational Israeli jazz pianist Guy Mintus performs an entire album of music dedicated to George Gershwin. Mintus injects his trademark high-voltage energy\, including rapid-fire piano fills and a pulsating jazz beat\, to what&#39\;s normally a placid lullaby.
LOCATION:The Herbert & Evelyn Gilman Theatre at the Mandell JCC 335 Bloomfield Avenue West Hartford\, CT 06117
UID:e.3150.9254
SEQUENCE:3
DTSTAMP:20260425T164617Z
URL:https://business.whchamber.com/events/details/guy-mintus-trio-a-gershwin-playground-9254
END:VEVENT

END:VCALENDAR
