BEGIN:VCALENDAR
VERSION:2.0
PRODID:-//ChamberMaster//Event Calendar 2.0//EN
METHOD:PUBLISH
X-PUBLISHED-TTL:P3D
REFRESH-INTERVAL:P3D
CALSCALE:GREGORIAN
BEGIN:VEVENT
DTSTART:20260122T003000Z
DTEND:20260208T210000Z
X-MICROSOFT-CDO-ALLDAYEVENT:FALSE
SUMMARY:Gutenberg! The Musical!
DESCRIPTION:GUTENBERG! THE MUSICAL! by Anthony King and Scott Brown Directed by SASHA BR TT Music direction by MILES MESSIER Get ready to laugh until your cheeks hurt! This wildly clever\, high-energy musical spoof takes you on a joyfully absurd ride through one of history's most unlikely Broadway pitches. Bud and Doug\, a pair of aspiring playwrights\, perform an audition for investors to fund their new\, ill-advised project: a big\, splashy musical about none other than the inventor of the printing press  Johann Gutenberg! Armed with hats\, props\, and unshakable enthusiasm\, Bud and Doug perform every role in their crass historical epic\, with the hope that one of the producers in attendance will give them that elusive Broadway contract. It's art\, imitating life\, imitating art! "This brilliant musical delivers guaranteed laughs!" -Entertainment Weekly ""You'll leave thankful for musical theater!" - Daily Beast Recommended age: Ages 12 and up. Approximately 2 hours including one 15-minute intermission
X-ALT-DESC;FMTTYPE=text/html:GUTENBERG! THE MUSICAL! by Anthony King and Scott Brown Directed by SASHA BR&Auml\;TT Music direction by MILES MESSIER Get ready to laugh until your cheeks hurt! This wildly clever\, high-energy musical spoof takes you on a joyfully absurd ride through one of history&rsquo\;s most unlikely Broadway pitches. Bud and Doug\, a pair of aspiring playwrights\, perform an audition for investors to fund their new\, ill-advised project: a big\, splashy musical about none other than the inventor of the printing press&ndash\; Johann Gutenberg! Armed with hats\, props\, and unshakable enthusiasm\, Bud and Doug perform every role in their crass historical epic\, with the hope that one of the producers in attendance will give them that elusive Broadway contract. It&rsquo\;s art\, imitating life\, imitating art! &quot\;This brilliant musical delivers guaranteed laughs!&rdquo\; -Entertainment Weekly &quot\;&quot\;You&rsquo\;ll leave thankful for musical theater!&quot\; - Daily Beast Recommended age: Ages 12 and up. Approximately 2 hours including one 15-minute intermission
LOCATION:Playhouse on Park 244 Park Road West Hartford\, CT 06119
UID:e.3150.16996
SEQUENCE:3
DTSTAMP:20260425T171148Z
URL:https://business.whchamber.com/events/details/gutenberg-the-musical-16996
END:VEVENT

END:VCALENDAR
