BEGIN:VCALENDAR
VERSION:2.0
PRODID:-//ChamberMaster//Event Calendar 2.0//EN
METHOD:PUBLISH
X-PUBLISHED-TTL:P3D
REFRESH-INTERVAL:P3D
CALSCALE:GREGORIAN
BEGIN:VEVENT
DTSTART:20250325T220000Z
DTEND:20250326T000000Z
X-MICROSOFT-CDO-ALLDAYEVENT:FALSE
SUMMARY:Guinness Tasting Event
DESCRIPTION:Join us as we taste / learn about all three Guinness varieties in an illustrated presentation with beer expert / cartoonist Em Sauter. Appetizers will be served\, prizes could be won\, fun to be had! About Em Sauter Called the "Bob Ross of beer" by Imbibe magazine\, Em Sauter is an award winning cartoonist based in Connecticut and the founder of the website Pints and Panels which teaches visual drinks education. She has an MFA in cartooning from the famous Center for Cartoon Studies\, is an Advanced Cicerone \, has her WSET Level 2 in Spirits and is an BJCP certified international beer judge\, judging in high profile competitions all over the world. She hosts the "All About Beer'' podcast. and has contributed to Forbes\, Brewers and Distillers International\, Craft Beer and Brewing\, Vinepair\, Outside\, The Alcohol Professor and more. She is the author of four books on beer Event sponsored by Faith Fuerst
X-ALT-DESC;FMTTYPE=text/html:Join us as we taste / learn about all three Guinness varieties in an illustrated presentation with beer expert / cartoonist Em Sauter. Appetizers will be served\, prizes could be won\, fun to be had! About Em Sauter Called the &ldquo\;Bob Ross of beer&rdquo\; by Imbibe magazine\, Em Sauter is an award winning cartoonist based in Connecticut and the founder of the website Pints and Panels which teaches visual drinks education. She has an MFA in cartooning from the famous Center for Cartoon Studies\, is an Advanced Cicerone&reg\;\, has her WSET Level 2 in Spirits and is an BJCP certified international beer judge\, judging in high profile competitions all over the world. She hosts the &ldquo\;All About Beer&rsquo\;&rsquo\; podcast. and has contributed to Forbes\, Brewers and Distillers International\, Craft Beer and Brewing\, Vinepair\, Outside\, The Alcohol Professor and more. She is the author of four books on beer Event sponsored by Faith Fuerst
LOCATION:Playhouse on Park
UID:e.3150.15878
SEQUENCE:3
DTSTAMP:20260424T024521Z
URL:https://business.whchamber.com/events/details/guinness-tasting-event-15878
END:VEVENT

END:VCALENDAR
