BEGIN:VCALENDAR
VERSION:2.0
PRODID:-//ChamberMaster//Event Calendar 2.0//EN
METHOD:PUBLISH
X-PUBLISHED-TTL:P3D
REFRESH-INTERVAL:P3D
CALSCALE:GREGORIAN
BEGIN:VEVENT
DTSTART:20250322T170000Z
DTEND:20250322T200000Z
X-MICROSOFT-CDO-ALLDAYEVENT:FALSE
SUMMARY:Grief and Reiki/Quantum Energy Healing Workshop
DESCRIPTION:Healing from Loss:  Grief Processing and Energy Healing Workshop\n\nAre you navigating through the painful journey of grief?  Healing is possible\, and you don't have to go through it alone.  Join us for a powerful workshop that combines Grief Processing and Reiki/Quantum Energy Healing to help you release emotional pain\, find peace\, and reclaim your joy.\n\nHeal your heart and mind from the emotional weight of loss. Release pain and trauma through energy healing practices. Find peace\, clarity\, and emotional balance.  Restore your connection to yourself and loved ones in a safe\, healing environment. Learn tools and techniques to navigate grief with grace and resilience.
X-ALT-DESC;FMTTYPE=text/html:Healing from Loss:&nbsp\; Grief Processing and Energy Healing Workshop<br />\nAre you navigating through the painful journey of grief?&nbsp\; Healing is possible\, and you don&#39\;t have to go through it alone.&nbsp\; Join us for a powerful workshop that combines Grief Processing and Reiki/Quantum Energy Healing to help you release emotional pain\, find peace\, and reclaim your joy.<br />\nHeal your heart and mind from the emotional weight of loss. Release pain and trauma through energy healing practices. Find peace\, clarity\, and emotional balance.&nbsp\; Restore your connection to yourself and loved ones in a safe\, healing environment. Learn tools and techniques to navigate grief with grace and resilience.
LOCATION:45 South Main Street Conference Room/lower level West Hartford\, Ct 06107
UID:e.3150.15893
SEQUENCE:3
DTSTAMP:20260424T024615Z
URL:https://business.whchamber.com/events/details/grief-and-reiki-quantum-energy-healing-workshop-15893
END:VEVENT

END:VCALENDAR
