BEGIN:VCALENDAR
VERSION:2.0
PRODID:-//ChamberMaster//Event Calendar 2.0//EN
METHOD:PUBLISH
X-PUBLISHED-TTL:P3D
REFRESH-INTERVAL:P3D
CALSCALE:GREGORIAN
BEGIN:VEVENT
DTSTART;VALUE=DATE:20250325
DTEND;VALUE=DATE:20250326
TRANSP:TRANSPARENT
X-MICROSOFT-CDO-ALLDAYEVENT:TRUE
SUMMARY:Greenwich Medical Spa Diamond Glow
DESCRIPTION:Come and experience our signature  Greenwich Medical Spa DiamondGlow Facial. We are holding an event on Tuesday March 25th. $99 deposit is required. We will also be featuring Beem Light Sauna and Studio by a permanent jewerly designer. Call 860-206-8191 to reserve your spot today!!
X-ALT-DESC;FMTTYPE=text/html:Come and experience our signature&nbsp\; Greenwich Medical Spa DiamondGlow Facial. We are holding an event on Tuesday March 25th. $99 deposit is required. We will also be featuring Beem Light Sauna and Studio by a permanent jewerly designer. Call 860-206-8191 to reserve your spot today!!
LOCATION:Greenwich Medical Spa 65 Raymond Road West Hartford\, CT 06107
UID:e.3150.15912
SEQUENCE:3
DTSTAMP:20260424T011154Z
URL:https://business.whchamber.com/events/details/greenwich-medical-spa-diamond-glow-15912
END:VEVENT

END:VCALENDAR
