BEGIN:VCALENDAR
VERSION:2.0
PRODID:-//ChamberMaster//Event Calendar 2.0//EN
METHOD:PUBLISH
X-PUBLISHED-TTL:P3D
REFRESH-INTERVAL:P3D
CALSCALE:GREGORIAN
BEGIN:VEVENT
DTSTART:20220430T120000Z
DTEND:20220430T160000Z
X-MICROSOFT-CDO-ALLDAYEVENT:FALSE
SUMMARY:Greater Hartford Host Lions Club 57th Annual Pancake Festival
DESCRIPTION:$8 adults/$5 children for all you can eat pancakes\, eggs\, sausages\, hash browns\, fruit\, muffins and beverages - the best deal in town! Even better\, 100% of the proceeds go directly back to the community in the form of support for local nonprofits and college scholarships. Live music\, raffle prizes and more!! Come meet our mascot\, Paws! For more information or to support this event with a donation or an ad in our program book\, please contact Lion Andrew Stern at (860) 519-1850.
X-ALT-DESC;FMTTYPE=text/html:<span dir="auto">$8 adults/$5 children for all you can eat pancakes\, eggs\, sausages\, hash browns\, fruit\, muffins and beverages - the best deal in town! Even better\, 100% of the proceeds go directly back to the community in the form of support for local nonprofits and college scholarships. Live music\, raffle prizes and more!! Come meet our mascot\, Paws! For more information or to support this event with a donation or an ad in our program book\, please contact Lion Andrew Stern at (860) 519-1850.</span>
LOCATION:Farmington Ave. Baptist Church\, 155 Mountain Rd\, West Hartford\, CT
UID:e.3150.9389
SEQUENCE:3
DTSTAMP:20260425T234110Z
URL:https://business.whchamber.com/events/details/greater-hartford-host-lions-club-57th-annual-pancake-festival-9389
END:VEVENT

END:VCALENDAR
