BEGIN:VCALENDAR
VERSION:2.0
PRODID:-//ChamberMaster//Event Calendar 2.0//EN
METHOD:PUBLISH
X-PUBLISHED-TTL:P3D
REFRESH-INTERVAL:P3D
CALSCALE:GREGORIAN
BEGIN:VEVENT
DTSTART:20220215T200000Z
DTEND:20220215T233000Z
X-MICROSOFT-CDO-ALLDAYEVENT:FALSE
SUMMARY:Grand Opening Celebration
DESCRIPTION:DirectLine Media is celebrating the opening of our new studio in Branford! The event begins with a ribbon cutting at 3pm followed by food\, fun and networking.
X-ALT-DESC;FMTTYPE=text/html:DirectLine Media is celebrating the opening of our new studio in Branford! The event begins with a ribbon cutting at 3pm followed by food\, fun and networking.
LOCATION:DirectLine Media 11 Sycamore Way #100 Branford\, CT 06405
UID:e.3150.9319
SEQUENCE:3
DTSTAMP:20260425T203326Z
URL:https://business.whchamber.com/events/details/grand-opening-celebration-9319
END:VEVENT

END:VCALENDAR
