BEGIN:VCALENDAR
VERSION:2.0
PRODID:-//ChamberMaster//Event Calendar 2.0//EN
METHOD:PUBLISH
X-PUBLISHED-TTL:P3D
REFRESH-INTERVAL:P3D
CALSCALE:GREGORIAN
BEGIN:VEVENT
DTSTART:20250427T170000Z
DTEND:20250427T183000Z
X-MICROSOFT-CDO-ALLDAYEVENT:FALSE
SUMMARY:Grand Opening of Tree Trail at Hawk Hill Farm
DESCRIPTION:Join Traprock Ridge Land Conservancy\, the Town of Bloomfield\, the Connecticut Land Conservation Council and special guests for festivities and conversations about the outstanding resources conserved at Hawk Hill Farm.\n\nThere will be a short Arbor Day ceremony featuring several speakers and concluding with a ribbon cutting of an exciting new tree trail open to the public. The trail features nine trees\; five are "Notable" trees\, meaning they are among the largest of their species in CT.\n\nLight refreshments will be served and guided walks of the Tree Trail will be available.\n\nTRLC's purchase of the 45-acre farm in 2015 was partially funded using CT Open Space and Watershed Acquisition grant funding.
X-ALT-DESC;FMTTYPE=text/html:<p>Join Traprock Ridge Land Conservancy\, the Town of Bloomfield\, the Connecticut Land Conservation Council and special guests for festivities and conversations about the outstanding resources conserved at Hawk Hill Farm.</p>\n\n<p>There will be a short Arbor Day ceremony featuring several speakers and concluding with a ribbon cutting of an exciting new tree trail open to the public. The trail features nine trees\; five are &ldquo\;Notable&rdquo\; trees\, meaning they are among the largest of their species in CT.</p>\n\n<p>Light refreshments will be served and guided walks of the Tree Trail will be available.</p>\n\n<p><em>TRLC&rsquo\;s purchase of the 45-acre farm in 2015 was partially funded using CT Open Space and Watershed Acquisition grant funding.</em></p>\n
LOCATION:Hawk Hill Farm\, 20 Duncaster Road\, Bloomfield
UID:e.3150.16559
SEQUENCE:3
DTSTAMP:20260424T070137Z
URL:https://business.whchamber.com/events/details/grand-openine-of-tree-trail-at-hawk-hill-farm-16559
END:VEVENT

END:VCALENDAR
