BEGIN:VCALENDAR
VERSION:2.0
PRODID:-//ChamberMaster//Event Calendar 2.0//EN
METHOD:PUBLISH
X-PUBLISHED-TTL:P3D
REFRESH-INTERVAL:P3D
CALSCALE:GREGORIAN
BEGIN:VEVENT
DTSTART:20220125T230000Z
DTEND:20220126T010000Z
X-MICROSOFT-CDO-ALLDAYEVENT:FALSE
SUMMARY:Graduate Programs Info Sessions at University of Saint Joseph
DESCRIPTION:Attend a graduate virtual info session for one of the University of Saint Joseph's in-demand programs! When you attend an event\, USJ will waive your graduate applications fee. To see dates and register\, visit: https://apply.usj.edu/portal/graduateadmissionsevents\n\n\n	Doctor of Pharmacy - Tuesday\, January 25th at 6 p.m.
X-ALT-DESC;FMTTYPE=text/html:<div style="box-sizing: inherit\; margin-left: 0px\; padding-left: 5px\;"><span style="background-color: rgb(252\, 252\, 251)\; color: rgb(36\, 31\, 33)\; font-family: &quot\;source sans pro&quot\;\, &quot\;helvetica neue&quot\;\, helvetica\, arial\, sans-serif\; font-size: 18px\;">Attend a graduate virtual info session for one of the University of Saint Joseph&#39\;s in-demand programs! When you attend an event\, USJ will waive your graduate applications fee. To see dates and register\, visit:&nbsp\;</span><a href="https://apply.usj.edu/portal/graduateadmissionsevents" rel="noopener noreferrer" style="color: rgb(47\, 107\, 154)\; margin: 0px\; padding: 0px\; border: 0px\; font-variant-numeric: inherit\; font-variant-east-asian: inherit\; font-stretch: inherit\; font-size: 18px\; line-height: inherit\; font-family: &quot\;Source Sans Pro&quot\;\, &quot\;Helvetica Neue&quot\;\, Helvetica\, Arial\, sans-serif\; vertical-align: baseline\; outline: none 0px\; background-color: rgb(252\, 252\, 251)\;" target="_blank">https://apply.usj.edu/portal/graduateadmissionsevents</a></div>\n\n<ul style="box-sizing: inherit\; margin: 1em 0px 1em 45px\; padding-left: 0px\; font-family: interstate\; font-size: 16px\;">\n	<li style="box-sizing: inherit\; margin-left: 0px\; padding-left: 5px\;"><a href="https://apply.usj.edu/register/?id=fa2534c7-082b-4886-a8b5-497b9835b9de" style="box-sizing: inherit\; font-family: inherit\; font-size: inherit\; font-style: inherit\; font-weight: inherit\; text-decoration-line: none\; transition: all 200ms ease 0s\; color: rgb(11\, 109\, 183) !important\;">Doctor of Pharmacy - Tuesday\, January 25th at 6 p.m.</a></li>\n</ul>\n
LOCATION:
UID:e.3150.9305
SEQUENCE:3
DTSTAMP:20260425T190951Z
URL:https://business.whchamber.com/events/details/graduate-programs-info-sessions-at-university-of-saint-joseph-9305
END:VEVENT

END:VCALENDAR
