BEGIN:VCALENDAR
VERSION:2.0
PRODID:-//ChamberMaster//Event Calendar 2.0//EN
METHOD:PUBLISH
X-PUBLISHED-TTL:P3D
REFRESH-INTERVAL:P3D
CALSCALE:GREGORIAN
BEGIN:VEVENT
DTSTART:20220426T230000Z
DTEND:20220427T020000Z
X-MICROSOFT-CDO-ALLDAYEVENT:FALSE
SUMMARY:Gili Yalo: An Evening o of LIVE Ethio-pop\, R&B Funk & Jazz
DESCRIPTION:Gili Yalo performs a rich medley of contemporary soul\, funk\, psychedelic rock and traditional Ethiopian music\, drawing inspiration frim his experiences as an Ethiopian Jew who fled Sudan in 1984 and re-settled in Israel. The expression of his story through a modern\, cutting-edge music production\, represents his own personal triumph.
X-ALT-DESC;FMTTYPE=text/html:Gili Yalo performs a rich medley of contemporary soul\, funk\, psychedelic rock and traditional Ethiopian music\, drawing inspiration frim his experiences as an Ethiopian Jew who fled Sudan in 1984 and re-settled in Israel. The expression of his story through a modern\, cutting-edge music production\, represents his own personal triumph.
LOCATION:Herbert & Evelyn Gilman Theater Mandell JCC 335 Bloomfield Ave West Hartford\, CT 06117
UID:e.3150.9365
SEQUENCE:3
DTSTAMP:20260425T234212Z
URL:https://business.whchamber.com/events/details/gili-yalo-an-evening-o-of-live-ethio-pop-r-b-funk-jazz-9365
END:VEVENT

END:VCALENDAR
